BEGIN:VCALENDAR
VERSION:2.0
PRODID:-//Kinetiks MC - ECPv6.15.1.1//NONSGML v1.0//EN
CALSCALE:GREGORIAN
METHOD:PUBLISH
X-WR-CALNAME:Kinetiks MC
X-ORIGINAL-URL:https://www.kinetiksmc.com
X-WR-CALDESC:Events for Kinetiks MC
REFRESH-INTERVAL;VALUE=DURATION:PT1H
X-Robots-Tag:noindex
X-PUBLISHED-TTL:PT1H
BEGIN:VTIMEZONE
TZID:America/New_York
BEGIN:DAYLIGHT
TZOFFSETFROM:-0500
TZOFFSETTO:-0400
TZNAME:EDT
DTSTART:20170312T070000
END:DAYLIGHT
BEGIN:STANDARD
TZOFFSETFROM:-0400
TZOFFSETTO:-0500
TZNAME:EST
DTSTART:20171105T060000
END:STANDARD
END:VTIMEZONE
BEGIN:VEVENT
DTSTART;TZID=America/New_York:20171027T120000
DTEND;TZID=America/New_York:20171030T170000
DTSTAMP:20260423T181955
CREATED:20171024T052733Z
LAST-MODIFIED:20171114T025448Z
UID:1251-1509105600-1509382800@www.kinetiksmc.com
SUMMARY:Nightmare Festival 2017 @ Camp Ramblewood! [10/27/17 - 10/29/17]
DESCRIPTION:UPDATE: I will be rockin’ the Warehouse with M.Pyre at 2:15am on Saturday 10/28\, and then will be holding down the barn stage with DMT at 7:30pm!  \nFB: Nightmare Festival 2017 \nRSVP to the fifth annual #NightmareFestival!\nTICKETS: nightmare-festival.com/tickets \nFriday Oct 27th & Saturday Oct 28th\n*** NIGHTMARE FESTIVAL 2017 ***\nHosted at Camp Ramblewood in Darlington MD \n*** GATE INFORMATION ***\nFRIDAY Oct 27th special early arrival for VIP & RVs at 10AM\nFRIDAY Oct 27th open for arrivals at 12PM\nSATURDAY Oct 28th open for arrivals at 11AM\nSUNDAY Oct 29th – no music\, clean-up day\, camp exodus at 3PM\n**Gates close at midnight each night\, no exceptions** \nPast performers have included artists like Brillz\, Ganja White Night\, Bear Grillz\, Tritonal\, Figure\, Keys N Krate\, Herobust\, Protohype\, Claude VonStoke & more! \nSee our full list of 2017 attractions at http://nightmare-festival.com/activity/ \n*** GO BIG WITH VIP ***\nGo big with a general VIP or Super VIP pass which includes all the amenities one could ask for at Nightmare Festival. These passes are good for Friday Oct 27th admission and includes ages 18+ \nGENERAL VIP includes admission\, festival lineup poster\, commemorative wristband\, festival hat pin\, festival T-shirt\, and 3 meal tickets to use at vendors of your choosing. \nSUPER VIP includes admission\, backstage access at main stage\, festival lineup poster\, commemorative wristband\, festival hat pin\, festival T-shirt\, and 3 meal tickets to use at vendors of your choosing. \n*** APPLY TO VEND ***\nApply for a merchant booth at http://nightmare-festival.com/vendors/ \n*** CAMPING INCLUDED***\nThere is no additional fee for camping and all tickets permit you stay overnight & camp. Bring a tent & pack several layers! Don’t forget to bring a pop-up canopy & tarp and use a proper sleeping bag to contain body heat at night. \n**** RECOMMENDED HOTELS ****\nHilton Garden Inn: http://tinyurl.com/qfuahxo\nHoliday Inn Express: http://tinyurl.com/qbj2lgr\nSuper8: http://tinyurl.com/p6r8kx4 \nHave questions? You can find all the answers at www.nightmare-festival.com!
URL:https://www.kinetiksmc.com/event/nightmarefest/
LOCATION:3D Productions
CATEGORIES:Badass Raves,Festival,Maryland
ATTACH;FMTTYPE=image/jpeg:https://www.kinetiksmc.com/site/wp-content/uploads/2017/10/21950812_1446347425485366_7919849697270685536_o.jpg
END:VEVENT
BEGIN:VEVENT
DTSTART;TZID=America/New_York:20170818T000000
DTEND;TZID=America/New_York:20170819T060000
DTSTAMP:20260423T181955
CREATED:20170720T030449Z
LAST-MODIFIED:20170720T041426Z
UID:1182-1503014400-1503122400@www.kinetiksmc.com
SUMMARY:Psychedelic Sea (DC rave) - PsySea [8/18/17]
DESCRIPTION:Fb: Psychedelic Sea (DC Rave) \nTICKETS: http://ticketf.ly/2pQxvXv \nPsychedelic Sea is a metaphorical celebration of our fluid energy\, hosted in an environment that releases you from the mundane and puts you a one of a kind oceanic event. \nBreak out the swimwear or incorporate your favorite underwater creature into your costume as we celebrate the return of  PsySea #PSYSEA. \nYour Ticket $ Goes Toward:\n– psychedelic decorations\n– sea themed decorations including fish\, jellyfish & more\n– live mermaids\n– jellyfish parade\n– live flow performances\n– venue rental & friendly security\n– a myriad of clothing\, pin\, and glass vendors\n– live painters\n– outdoor merchant area & gathering space\n– body painters\n– FOUR rooms of sound\n– a psychedelic chillout room good for cuddles and convo\n– DJ’s playing: live electronic\, space bass\, global bass\, dubstep\, trap\, house\, trance and drum & bass \n***The Beach Stage (top floor)***\nSOOHAN (global bass)\nLEVITATION JONES (bass music)\nDJ HIPPO (amorphous bass music)\nANOMAALII (trap)\n2RIP (future bass)\nM.Pyre & Toy Make w/ Kinetiks MC (drum & bass)\nHogan b2b Obscure (house music \n***”Role Modelz Reef” hosted by MushMouth Media ***\nSUBTRONICS (riddim)\nUBER (riddim)\nANOXEX (dubstep\, future bass)\nTRIPNOTIC (trap\, bass house)\nRABAT (drum & bass)\nBRAVO BRAVO (riddim)\nDIZZY (dubstep)\nSKANKUH (grime)\nBRIGGLY (hybrid\, dubstep\, trap)\nBRIAN BEHR (riddim) \n*** MERMAID COVE ***\nELEMENTAL (psychedelic downtempo & trance)\nSHAFT XXL (trip hop\, hip hop)\nSLEEPY NICK (downtempo\, trip hop\, chillout) \n*** LOUNGE ***\nPop-up sets all night from various artists on the lineup \nThings To Know:\n– event is strictly 18+ with valid photo ID\n– no gum or markers (to protect venue)\n– you may not bring beverages of any kind (must be purchased inside venue)\n– no large bookbags. anything smaller than 16inches in all directions is acceptable but subject to thorough search\n– bring cash for the bar and for vendors\n– rest up the night before and strect the day of. plan to make it until sunrise because this is a VER special night\n– be ready to say hello to strangers and to give people hugs and tell them you appreciate them. the world is a fucked up place right now and every positive gesture we give each other makes an impact everywhere\, including globally \nFollow Badvss RAVES for more events! This fall/winter we will be celebrating the return of #BlackMagic\, #BlackoutDC\, #LaserDisco and much more\, including some incredible events at 9:30 Club and U Street Music Hall. \nSubscribe to our email list or buy tickets to other shows at: badassraves.com
URL:https://www.kinetiksmc.com/event/psysea/
CATEGORIES:Badass Raves,Badass Raves,DC,MushMouth Media
ATTACH;FMTTYPE=image/jpeg:https://www.kinetiksmc.com/site/wp-content/uploads/2017/07/19884229_10154902460352545_4738629543795087149_n.jpg
END:VEVENT
BEGIN:VEVENT
DTSTART;TZID=America/New_York:20170726T120000
DTEND;TZID=America/New_York:20170730T150000
DTSTAMP:20260423T181955
CREATED:20170614T022120Z
LAST-MODIFIED:20170614T022120Z
UID:891-1501070400-1501426800@www.kinetiksmc.com
SUMMARY:Big Dub Festival 2017 - [07.26/17 - 07/30/17]
DESCRIPTION:Fb: https://www.facebook.com/events/1021270748017247/ \nOh word? Yes\, I’ll be rocking the mics and tings at Big Dub Festival 2017! Big tings a gwannn –> TBA!! \nJuly 26th – 30th\nBIG DUB FESTIVAL\nwww.BigDubFestival.com \nhosted at Four Quarters Interfaith\nMain Camp & Hilltop entrance:190 Walker Ln\, Artemas PA\nNew Camp Entrance: 641 Clear Ridge Road\, Artemas PA \nThe 8th annual Big Dub Festival! \nThis year will continue to be integral in an ongoing legacy as multi-year veterans join and embrace newcomers into a culture of eco-responsibility\, of giving & sharing\, and respect for oneself & others. We are blossoming into something special that cannot be explained – but felt in the magical energy that fills the air. \nGENERAL OVERVIEW\n– dozens of patron-created theme camps\n– group movie nights\n– Rocky Horror Picture Show\n– hundreds of events at theme camps\n– four stages of music (Stone Circle\, Pavilion\, Hemlock Hole\, Clubhouse)\n– professional fireworks display\n– illuminated hammock haven\n– silent disco afterhours\n– nightly drum circle & invitation for all acoustic instruments\n– poi\, fire & flow arts at the drum circle\n– free\, clean running water\, showers\, and flushing toilets\n– cellphone charging stations\n– daily swimming hole party w/ inflatables (Wed\, Thurs\, Fri\, Sat)\n– main stages operating Thurs\, Friday\, Saturday\n– special Wednesday music programming at Hemlock Hole\n– daily in-camp yoga & meditation\n– daily workshop & seminar schedule featuring topics on dance\, poi\, fire arts\, crafting\, sex\, spirituality\, politics\, and more\n– Car camping available at New Camp (must purchase online)\n– RV parking available (must purchase online) \nSHUTTLE TO/FROM HILLTOP\nA complimentary shuttle will run from 9am each morning until 3am each night with service between Hilltop and Main Camp. \nHILLTOP CAMP ACTIVITIES\n– 31ft slip & slide\n– 50x50ft misting tent with lounge & wine bar\n– moon bounce\, cornhole & field day games\n– movie night\n– karaoke & open mic night\n– Big Dub University Annual Kegger with BYOB Power Hour and games (winners win a Big Dub Varsity jacket!) \nGATE ARRIVAL SCHEDULE:\nGates open for daily arrival at 10am each morning. Gates close at 11PM each night. Anyone arriving after 11pm will have to sleep in their car at the gate until the gates open again at 10am the next morning. \nORIENTATION:\nMandatory Big Dub Orientation will take place at 8:30pm on Wednesday\, July 26th at the Seminar Stage. Chad & Nicole will touch on updates to Big Dub as well as discuss plans for the future. \nVENDING:\nInterested vendors may apply at http://bigdubfestival.com/camping/merchanting-and-food-vending/ \nART GRANTS:\nWe are seeking large scale art installations & scultpures. More info athttp://bigdubfestival.com/submit-an-art-grant/ \nTHEME CAMP APPLICATIONS:\nTheme camps and villages are the interactive core of Big Dub. An ideal theme camp creates a visually stimulating presence and provide a communal space or other opportunity for interaction. Those who contribute to the creation of this communal space often camp around this site and contribute to maintaining the site during the festival as well as working to provide activities to other festival attendees. Apply athttp://bigdubfestival.com/submit-theme-camp/ \nMUSIC:\nMusic will run every day of the festival. Two official opening parties will take place on Wednesday the 26th with the Clubhouse Stage in Hilltop and The Pirate Ship at Hemlock hole. The Stone Circle and Pavilion both open on Thursday the 27th. The Stone Circle is our largest stage with the most sound which runs until 11pm on Thursday and midnight on Friday/Saturday. The Pavilion & Pirate Ship are both afterhours stages. \nEXODUS:\nSunday\, July 30th is the festival clean-up and exodus day. No festivities take place on this day outside of hugging your new friends goodbye! \nVOLUNTEERING:\nWe are seeking motivated people who want to give back to the community and be a part of something special. We are not seeking people who simply want free entry into a festival. We are seeking those who have job skills and a service mentality. If you have never worked for a Badass-owned festival before then your first festival is voluntary and you will be assigned to shadow a senior member. If you are as amazing as we expect then you will be invited back in the future with a paid job which includes other benefits. Keep an eye out for the volunteer tab on our website which will launch sometime in February! \n***** CORE PRINCIPLES OF BIG DUB ***** \nRADICAL SELF EXPRESSION: We are all unique\, passionate people. Feel free to be yourself. Wear what you want. Dance how you want. Talk to who you want. \nRADICAL SELF RELIANCE: Discover\, arrange and rely on your own resources. Preparedness is both important & sexy! “Don’t Be A D*ck” by assuming that others will take care of you. \nPARTICIPATION: While anyone can be a spectator\, Big Dub Festival is all about stepping out of your comfort zone and experiencing life like you have never done before. \nGIFTING: This is the act of making someone’s day… by doing things for another without expectation of compensation or return. \nACCEPTANCE & INCLUSION: Accepting the differences & choices of others and not pass judgment. We are a family built upon includin one another and supporting each other every step of the way. \nRESPECT & MINDFULNESS: All members of society expect to be treated fairly regardless of what they do or how they choose to dress (or not dress at all in some cases). Basically “Don’t Be A D*ck!” \nCONSENT: Be mindful about your interactions and pay attention to ensure you are not invading someone’s comfort zone. This includes anything from what you say & what you share to the act of touch.
URL:https://www.kinetiksmc.com/event/bigdub2017/
LOCATION:Four Quarters Farm\, 190 Walker Ln\, Artemas\, PA\, 17211\, United States
CATEGORIES:Badass Raves,Festival,Four Quarters Farm,Maryland
ATTACH;FMTTYPE=image/jpeg:https://www.kinetiksmc.com/site/wp-content/uploads/2017/06/16300223_1419363884763909_5409909566818449537_o.jpg
END:VEVENT
BEGIN:VEVENT
DTSTART;TZID=America/New_York:20170601T120000
DTEND;TZID=America/New_York:20170604T170000
DTSTAMP:20260423T181955
CREATED:20170430T201337Z
LAST-MODIFIED:20170430T201337Z
UID:1089-1496318400-1496595600@www.kinetiksmc.com
SUMMARY:Dreamscape Festival 2017 - Camp Ramblewood\, MD [6/1/17 - 6/4/17]
DESCRIPTION:Thursday June 1st – Sunday June 4th\n*** DREAMSCAPE FESTIVAL 2017 ***\nHosted in Darlington MD \nGET TICKETS: http://dreamscapefestival.com/tickets \nGet ready for #Dreamscape2017 at Camp Ramblewood in Maryland\, another glorious weekend filled with good vibes\, spectacular art\, performers\, art cars\, yoga\, meditation\, pool parties & more! \nDreamscape Family can once again sleep under the stars or rent a cabin. Whichever method\, you’ll be surrounded by an enthusiastic community of campers. The grounds will have decorated walkways\, glowing trees\, nightly bonfires & more. \n  \n*** GO BIG WITH VIP ***\nStandard VIP includes admission\, first chance to book on-site parking\, lineup poster\, commemorative wristband that gives you access to the VIP lounge\, and merch discounts. The VIP lounge features secret headliners sets\, private bar\, games\, artist meet & greets and more! \nAdd a meal plan with your VIP for an additional $65 which includes Friday dinner\, Saturday breakfast & dinner\, and Sunday breakfast. Meal plan dining is all your can eat. \n*** APPLY TO VEND ***\nApply for a merchant booth at http://dreamscapefestival.com/vendors/ \n*** CAMPING INCLUDED***\nThere is no additional fee for camping. Bring a tent & pack several layers! Don’t forget to bring a pop-up canopy & tarp and use a proper sleeping bag to contain body heat at night. \n**** RECOMMENDED HOTELS ****\nHilton Garden Inn: http://tinyurl.com/qfuahxo\nHoliday Inn Express: http://tinyurl.com/qbj2lgr\nSuper8: http://tinyurl.com/p6r8kx4 \nGATE INFO:\nThursday June 1st: 11am for cabins. 1pm for anyone else. Gates close at midnight. \nFriday June 2nd: 11am – midnight for all arrivals \nSaturday June 3rd: 11am – midnight for all arrivals \nSunday June 4th: no music\, cleanup & exodus by 3PM \nPROHIBITED ITEMS LIST:\n– no outside alcohol (there are bars inside the festival)\n– no glass containers of any kind\n– no prescription medicine that does not match your ID\n– no guns\, bazookas\, knives\, or unapproved flame throwers\n– no RVs or mobile camping systems\n– no fireworks\n– no water guns\n– no drugs\nANY ITEM ON THIS LIST WILL BE CONFISCATED AND NOT RETURNED \nAPPROVED ITEMS:\n– you may bring fire pit to burn wood. rule is no fire/ash may touch ground and wood must be purchased inside the festival\n– you may bring grills\, keronsene stoves\, etc\n– food & water allowed. Non-alcoholic beverage containers must be un-opened (Liquor board rules)\n– anyone with a ticket can pitch a tent\n– camelbacks & bookbags allowed (subject to full search) \nPARKING\n$40 to park on site at Ramblewood\, must be purchased in advance.\n$25 to park off-site. You & your belongings will be shuttled to the site (6 minute ride from parking lot). \n** Off-site parking is instituted to make check-in fast & efficient\, reduce road traffic\, eliminate backups\, keep cars out of the campgrounds\, prevent cars from being blocked in\, and create more spaces to camp. The fees are a one-time PER CAR fee. On-site parking is very limited and will only be available for the first 800 cars to purchase their on-site pass atDreamscapeFestival.com/tickets \nLINEUP\nWe take careful consideration when booking the lineup for Dreamscape and because of this it sometimes takes longer than usual to announce. We will post a teaser lineup before March and will have the full lineup announced by April. \nPast talent have included: Destructo\, Justin Martin\, Louis the Child\, Prince Fox\, Must Die\, Barely Alive\, Space Jesus\, Manic Focus\, Party Favor\, TWRK\, Michal Menert\, Lucky Date\, Thriftworks\, Midnight Tyrannosaurus\, Prolix\, Total Science\, Aly & Fila\, Coone\, Trollphace\, UZ\, and more. \nSTAGES IN 2017\nVisionary Grounds: a new\, open air stage\, located in the heart of the festival between both cabin rows\, located near the old entrance to the dining hall. This stage will feature a massive soundsystem with 100\,000 watts of bass\, lasers and more. \nCity of Dreams: our second largest stage\, located in the warehouse behind the letter cabins and situated right next to the main vendor village. This stage will run late into the night\, hosted and curated by the famous DC-based production company known as Nu Androids. \nThe Splash Down: this stage is located on the large patio adjacent to the pool and hosting the daily pool parties from 11am – 11pm. \nThe Temple: this stage is located in the barn-like structure across the numbered cabins and will host daytime activities such as The Dreamscape Pageant\, Power Hour\, the Shuffling contest and more. The stage will be open late into the night with a showcase of underground music by a perfectly curated cast of DJ’s and live acts. \nSeminar Stage: this stage is located down the hill from cabins U\, S\, & T\, and to the east of the pool. This stage will showcase variety of workshops\, discussion panels\, movie nights\, magic shows\, karaoke\, and LED flow-art contests. \nART CARS\nThese vehicles have been modified into mobile works of art and will be making pop-up events at various intervals during the festival. \nHogwarts Express: Coming from Platform 9 3/4 is the Harry Potter themed art car\, hosted by Bangarang from Philly. Complete with a DJ booth\, this artcar will be showcasing multiple DJ’s as well as pop-up singalongs. \nBassTribe Jungle Bus: This art car acts as a mobile art gallery with a DJ booth and will be doing mobile performances as well as stationary. Find yourself grooving to their DJ’s\, mesmerized by their host of live artists\, or simply mellow out in their art gallery inside the bus. \nTHE DREAMSCAPE PARADE\nMarching band\, gymnasts\, fairies\, elves\, magicians\, hoopers\, flow performers\, art cars and more join together to make rounds through the festival. \nMT OLYMPUS ART GALLERY\, CHILL LOUNGE & ACTIVITY AREA \nThis lounge is fashioned according to the nine Muses of Greek Mythology\, decorated to resemble ancient Greek ruins. Live painters will paint each of the muses. Activities will be programmed based on each of Muse’s special talents such as stand-up comedy for the goddess of Comedy and flow seminars for the goddess of Dance. Pillows and other comfortable places to sit will be positioned around the lounge while live artists paint & display their artwork to a selection of downtempo music and psychedelic chillout vibes. \nSOUND EXPECTATIONS & NOISE ORDINANCE\nThere will be no holding back on sound quality! Music will run all day & night at select stages such as City of Dreams and The Temple. These all-night stages will observe an 11pm county noise ordinance and operate at lower volume than during daylight hours. In leiu of the noise ordinance\, all headlining acts will conclude their set times prior to the ordinance (just as many other major music festival must do). \nGATES TICKETS & UPGRADES\nWe cannot guarantee any tickets will be available for gate purchase. If you anticipate going to the festival then please purchase a ticket in advance. You will save money the sooner you buy as ticket prices generally increase the week before any festival if they are still available.
URL:https://www.kinetiksmc.com/event/dreamscapefestival2017-2/
LOCATION:3D Productions
CATEGORIES:Badass Raves,Festival,Maryland
ATTACH;FMTTYPE=image/png:https://www.kinetiksmc.com/site/wp-content/uploads/2017/04/18057941_1358152244262403_4013682831453982798_n.png
END:VEVENT
END:VCALENDAR