BEGIN:VCALENDAR
VERSION:2.0
PRODID:-//Kinetiks MC - ECPv6.15.1.1//NONSGML v1.0//EN
CALSCALE:GREGORIAN
METHOD:PUBLISH
X-ORIGINAL-URL:https://www.kinetiksmc.com
X-WR-CALDESC:Events for Kinetiks MC
REFRESH-INTERVAL;VALUE=DURATION:PT1H
X-Robots-Tag:noindex
X-PUBLISHED-TTL:PT1H
BEGIN:VTIMEZONE
TZID:America/New_York
BEGIN:DAYLIGHT
TZOFFSETFROM:-0500
TZOFFSETTO:-0400
TZNAME:EDT
DTSTART:20150308T070000
END:DAYLIGHT
BEGIN:STANDARD
TZOFFSETFROM:-0400
TZOFFSETTO:-0500
TZNAME:EST
DTSTART:20151101T060000
END:STANDARD
END:VTIMEZONE
BEGIN:VEVENT
DTSTART;TZID=America/New_York:20150614T140000
DTEND;TZID=America/New_York:20150614T210000
DTSTAMP:20260423T222403
CREATED:20150616T232433Z
LAST-MODIFIED:20150616T232433Z
UID:930-1434290400-1434315600@www.kinetiksmc.com
SUMMARY:Diamond District Soundclash
DESCRIPTION:Joining forces for a day of bass\, beats and brew…we have some of DCs most prominent Bass crews joining forces to throw down those low-end freqs we love so much – for one day of maximum mashup at Bardo Brewpub – all outdoors! \n** FREE ** / [+21]\n\nLINE-UP: \nCADENCE: Seany Ranks + Drone\n\nDEEP SESSIONS: Instagib + Refugee\n\n\nDIRTBOX RADIO: ODJ + Encryption\nhttps://www.facebook.com/Dirtboxradio?fref=ts \n\nEXPANSION BROADCAST: Erictronica + Deinfamous\n\nPodcast 642: Erictronica [Drum & Bass] \n\n\nSUBDISTRICK: Bass Avengers (RogueState + Julez)\n\n\nKINETIKS MC on the Mic!\nhttps://soundcloud.com/kinetiks
URL:https://www.kinetiksmc.com/event/diamond-district-soundclash-2/
LOCATION:Bardo Brewpub\, 1200 Bladensburg Rd NE\, Washington\, DC\, 20002\, United States
CATEGORIES:Club,DC
ATTACH;FMTTYPE=image/jpeg:https://www.kinetiksmc.com/site/wp-content/uploads/2015/06/diamond_district_soundclash.jpg
END:VEVENT
BEGIN:VEVENT
DTSTART;TZID=America/New_York:20150613T230000
DTEND;TZID=America/New_York:20150614T030000
DTSTAMP:20260423T222403
CREATED:20150609T011154Z
LAST-MODIFIED:20150609T011154Z
UID:929-1434236400-1434250800@www.kinetiksmc.com
SUMMARY:SubDistrick - June 2015
DESCRIPTION:Springing into action for May – SubDistrick holds it down with another sik local lineup of D&B selectas. On the mic runnin tings.. we have the one Kinetiks MC!! \nDEINFAMOUS\n[Expansion Broadcast]\nhttps://soundcloud.com/deinfamous\n. . . . . . . . . . . . . . . . . \nTANC\n[Dive & Lie Wrecked]\nhttps://soundcloud.com/tanc-1\n. . . . . . . . . . . . . . . . . \nLYCEUM\n[SubDistrick]\nhttps://soundcloud.com/lyceumdc\n. . . . . . . . . . . . . . . . . \nJULEZ\n[SubDistrick\, One Love Massive\, 88]\nhttps://soundcloud.com/julezdc\nhttps://www.facebook.com/DCjulez
URL:https://www.kinetiksmc.com/event/subdistrick-june-2015-2/
LOCATION:930 Club Backbar\, 815 V St NW\, Washington\, DC\, 20001\, United States
CATEGORIES:Club,DC
END:VEVENT
BEGIN:VEVENT
DTSTART;TZID=America/New_York:20150523T230000
DTEND;TZID=America/New_York:20150524T030000
DTSTAMP:20260423T222403
CREATED:20150511T151033Z
LAST-MODIFIED:20150511T151033Z
UID:928-1432422000-1432436400@www.kinetiksmc.com
SUMMARY:SubDistrick - May 2015
DESCRIPTION:  \nDIRTY ONE\n[DelTribu Records\, SW Records\, Syncopated Science\, Junglism Kru]\nhttps://soundcloud.com/dj-dirty-one\n. . . . . . . . . . . . . . . . . \nABYSS\n[Exiled Recordings\, Sunday Sessions]\nhttps://soundcloud.com/exiled_recordings\n. . . . . . . . . . . . . . . . . \nPLUS GOOD\n[SubDistrick]\nhttps://soundcloud.com/plus-good\n. . . . . . . . . . . . . . . . . \nJULEZ\n[SubDistrick\, One Love Massive\, 88]\nhttps://soundcloud.com/julezdc\nhttps://www.facebook.com/DCjulez
URL:https://www.kinetiksmc.com/event/subdistrick-may-2015-2/
LOCATION:930 Club Backbar\, 815 V St NW\, Washington\, DC\, 20001\, United States
CATEGORIES:Club,DC
END:VEVENT
END:VCALENDAR