BEGIN:VCALENDAR
VERSION:2.0
PRODID:-//Kinetiks MC - ECPv6.15.1.1//NONSGML v1.0//EN
CALSCALE:GREGORIAN
METHOD:PUBLISH
X-WR-CALNAME:Kinetiks MC
X-ORIGINAL-URL:https://www.kinetiksmc.com
X-WR-CALDESC:Events for Kinetiks MC
REFRESH-INTERVAL;VALUE=DURATION:PT1H
X-Robots-Tag:noindex
X-PUBLISHED-TTL:PT1H
BEGIN:VTIMEZONE
TZID:America/New_York
BEGIN:DAYLIGHT
TZOFFSETFROM:-0500
TZOFFSETTO:-0400
TZNAME:EDT
DTSTART:20150308T070000
END:DAYLIGHT
BEGIN:STANDARD
TZOFFSETFROM:-0400
TZOFFSETTO:-0500
TZNAME:EST
DTSTART:20151101T060000
END:STANDARD
BEGIN:DAYLIGHT
TZOFFSETFROM:-0500
TZOFFSETTO:-0400
TZNAME:EDT
DTSTART:20160313T070000
END:DAYLIGHT
BEGIN:STANDARD
TZOFFSETFROM:-0400
TZOFFSETTO:-0500
TZNAME:EST
DTSTART:20161106T060000
END:STANDARD
END:VTIMEZONE
BEGIN:VEVENT
DTSTART;TZID=America/New_York:20161103T220000
DTEND;TZID=America/New_York:20161104T020000
DTSTAMP:20260423T192359
CREATED:20161103T041027Z
LAST-MODIFIED:20161103T041027Z
UID:709-1478210400-1478224800@www.kinetiksmc.com
SUMMARY:Critical Sound 2016 Tour: Mefjus & Kasra @ L8 Lounge DC! [11.03.16]
DESCRIPTION:Fb event: https://www.facebook.com/events/170018490104512/ \n3D Productions is excited to bring you all TWO very highly demanded artist within in one night and it’s at a new venue. This is also the DC debut of hosting the legendary CRITICAL SOUND TOUR!!! \n◄◄ Mefjus ►►\n(Linz\, Austria\, Critical\, Neosignal\, Virus) \n◄◄ Kasra Critical ►►\n(London\,UK Critical Music) \nLocal talent: \nDes McMahon (Human Imprint\, Play Me Records) \nObsure B2B Hogan \nHosted by: Kinetiks MC \n18+\nNo Dress Code \nL8 Lounge\n727 15th street NW DC \n$15 Advance / $20 Door \n$10 EARLY BIRD TICKS ON SALE HERE —->\nhttp://www.ticketfly.com/event/1321953-critical-sound-tour-mefjus-washington/
URL:https://www.kinetiksmc.com/event/criticalsounddc2016/
LOCATION:L8 Lounge\, 727 15th St NW\, Washington\, DC\, 20005\, United States
CATEGORIES:3D Productions,Club,DC,DCDNB,Hosting,L8 Lounge,Venue
ATTACH;FMTTYPE=image/jpeg:https://www.kinetiksmc.com/site/wp-content/uploads/2016/10/14725605_10154068270287852_2397502759165319805_n.jpg
ORGANIZER;CN="3D Productions":MAILTO:dom@3dpartyevents.com
END:VEVENT
BEGIN:VEVENT
DTSTART;TZID=America/New_York:20161029T230000
DTEND;TZID=America/New_York:20161030T030000
DTSTAMP:20260423T192359
CREATED:20161019T014054Z
LAST-MODIFIED:20161019T014054Z
UID:705-1477782000-1477796400@www.kinetiksmc.com
SUMMARY:SubDistrick! October 2016 - Halloween Edition! [10.29.16]
DESCRIPTION:Fb event: SubDistrick October 2016! Halloween Edition! \nThis month SubDistrick invites you to enter the Dungeon and explore it’s depths but at your own peril! Yes necks will be snapped and spines twisted as local D&B druids of the dark arts cast their spells in the chamber. \nWe are going in deep and dark this Halloween weekend so come prepared and get to know your dungeon masters: \n• KINETIKS MC\n[ SubDistrick\, 3D\, Temporal Fusion ]\nhttps://soundcloud.com/kinetiksmc \n• TANC + TIERNEN\n[ Dive and Lie Wrecked ]\nhttps://soundcloud.com/tanc-1\n\n• PLUS GOOD + LYCEUM\n[ SubDistrick ]\nhttps://soundcloud.com/plus-good\nhttps://soundcloud.com/lyceumdc \n• JULEZ\n[ SubDistrick\, 88\, One Love Massive ]\nhttps://soundcloud.com/julezdc\nhttps://www.facebook.com/DCjulez/ \n+21 | $5 All Night \n11pm – 3am\n9:30 Club – Backbar
URL:https://www.kinetiksmc.com/event/subd_halloween2016/
LOCATION:930 Club Backbar\, 815 V St NW\, Washington\, DC\, 20001\, United States
CATEGORIES:Backbar,Club,DC,DCDNB,Hosting,SubDistrick
ATTACH;FMTTYPE=image/png:https://www.kinetiksmc.com/site/wp-content/uploads/2016/10/14712844_1080857625363436_3778242685528650127_o.png
END:VEVENT
BEGIN:VEVENT
DTSTART;TZID=America/New_York:20160925T230000
DTEND;TZID=America/New_York:20160926T030000
DTSTAMP:20260423T192359
CREATED:20160920T050952Z
LAST-MODIFIED:20160920T050952Z
UID:680-1474844400-1474858800@www.kinetiksmc.com
SUMMARY:SubDistrick! - September 2016
DESCRIPTION:Fb event: SubDistrick September 2016! \nSubD September heat is here with a special ELM IMPRINT take-over! SubDistrick is all about supporting local D&B and recognizing the souljahs out there that put in hard work to help make our scene what amazingness it is today. So it is with great pleasure that we welcome ELM IMPRINT to the Bass Bunka! \nElm Imprint is an independent record label started in 2015 by Phil Watkins\, Aaron Duncan and Arch Dixon. Elm Imprint has a family of labels that include\, Faction Digital Recordings (all broken beats) and Pound Recordings (techno). Please see links for more info and full discography. \nBANDCAMP: https://elmimprint.bandcamp.com/\nSOUNDCLOUD: https://soundcloud.com/elm-imprint\nFACEBOOK: https://www.facebook.com/elm.imprint/ \nSo hold tight DC\, Elm & SubD are bringing the ruckus!! We welcome 4 of Elm Imprints recording artists: Patrick Currier tagging with N.L.I.C. and production duo and DJs\, BILL & ED! \nHolding it down for SubDistrick we have residents Lyceum and Julez bringing the cutz and thunda! \nDC D+B come get some �\nLINE-UP: \nPATRICK CURRIER\n[ Elm Imprint ]\nhttps://soundcloud.com/patrickcurrier\nhttps://soundcloud.com/elm-imprint\n. . . . . . .\nN.L.I.C.\n[ Elm Imprint\, Sonicterror Records ]\nhttp://www.sonicterror.net/\nhttps://www.facebook.com/nlic.sonicterror/\n. . . . . . .\nBILL & ED\n[ Elm Imprint ]\nhttps://www.facebook.com/billytrax\nhttps://soundcloud.com/bill_trill\nhttps://soundcloud.com/traxmandem\n. . . . . . .\nKINETIKS MC\n[ SubDistrick ]\nhttps://soundcloud.com/kinetiksmc\n. . . . . . .\nLYCEUM\n[ SubDistrick ]\nhttps://soundcloud.com/lyceumdc\n. . . . . . .\nJULEZ\n[ SubDistrick ]\nhttps://soundcloud.com/julezdc\nhttps://www.facebook.com/DCjulez/ \n21+ | $5 All Night\n11pm – 3am\n9:30 Club – Backbar
URL:https://www.kinetiksmc.com/event/subdistrick_september2016/
LOCATION:930 Club Backbar\, 815 V St NW\, Washington\, DC\, 20001\, United States
CATEGORIES:Backbar,Club,DC,DCDNB,Hosting,SubDistrick
ATTACH;FMTTYPE=image/jpeg:https://www.kinetiksmc.com/site/wp-content/uploads/2016/09/14344288_568735746667799_4572503575718800482_n-e1474348013587.jpg
END:VEVENT
BEGIN:VEVENT
DTSTART;TZID=America/New_York:20160827T230000
DTEND;TZID=America/New_York:20160828T030000
DTSTAMP:20260423T192359
CREATED:20160816T050802Z
LAST-MODIFIED:20160816T050802Z
UID:651-1472338800-1472353200@www.kinetiksmc.com
SUMMARY:SubDistrick! - August 2016 (8/27/16)
DESCRIPTION:Fb event –> SubDistrick! – August 2016 @ Backbar! \nSubD is turning up the heat this August as we prepare to drop bombs in the bass bunka with another sik local lineup. \nThis month we welcome our brother in bass back home from the Colorado mountains – NATURE RAGE – bringing the vibez and rinsin out a special all vinyl set! \nSubDistrick is please to welcome our homie v:shal kanwar to the bass bunka for his first session with the crew. Trust he will be bringing something special for the headz. \nResidents JULEZ and PLUS GOOD willl be holding it down flexin the jungle riddims\, half time bangers and dungeon beats. \nJoining the mighty KINETIKS MC we have MC CONCEPT running rhyme and keepin things bubblin! \nLINE UP:\n\nNATURE RAGE + MC CONCEPT\n[ Translation Recordings\, Noisy Meditation ]\nhttps://soundcloud.com/naturerage\n. . . . \nv:shal kanwar\n[ Meso Creso\, Global Groove ]\nhttps://soundcloud.com/vishal-kanwar\n. . . . \nJULEZ\n[ SubDistrick\, One Love Massive\, 88 ]\nhttps://soundcloud.com/julezdc\n. . . . \nPLUS GOOD\n[ SubDistrick ]\nhttps://soundcloud.com/plus-good \nKINETIKS MC \n[ SubDistrick\, 3D Productions\, Temporal Fusion ] \nhttp://soundcloud.com/kinetiksmc \n\n+21 | $5 All Night | 9:30 Club Backbar [815 V St. Washington DC]\n11pm – 3am \n~ PEACE + LOVE DC D+B ~
URL:https://www.kinetiksmc.com/event/subdistrick_august2016/
LOCATION:930 Club Backbar\, 815 V St NW\, Washington\, DC\, 20001\, United States
CATEGORIES:Backbar,Club,DC,DCDNB,Hosting,SubDistrick
ATTACH;FMTTYPE=image/jpeg:https://www.kinetiksmc.com/site/wp-content/uploads/2016/08/SubDistrick-August-27-2016.jpg
END:VEVENT
BEGIN:VEVENT
DTSTART;TZID=America/New_York:20160716T230000
DTEND;TZID=America/New_York:20160717T030000
DTSTAMP:20260423T192359
CREATED:20160816T051425Z
LAST-MODIFIED:20160816T051425Z
UID:653-1468710000-1468724400@www.kinetiksmc.com
SUMMARY:SubDistrick! - July 2016 (7/16/16) feat. ROBERT MANOS
DESCRIPTION:Fb event –> SubDistrick! – July 2016 @ Backbar! \nSubD bringing the Summer boom back to The Bass Bunka with another sick local lineup of D&B selectas. \nThis month we have Noistek bringing his VIP thunda along with SabiN the Junglist droppin’ some serious heat and knowlege on the decks. \nSubD support from Lyceum “the Dark Rider” and JULEZ DC\, bringing the dangerous kutts and heady vibez. \nAnd as always.. navigating the ride and keeping things lively\, the one Kinetiks MC! \nROBERT MANOS will be touching down in the bass bunker to lend his amazing vocal talents to the evening!! If you were at SubD in May then you know we’re in for a special night! \nDC let’s get dutty!\n\nLINE UP: \nNOISTEK\n[ Digi-Con\, 3D ]\nhttps://soundcloud.com/noistek\n. . . . \nSABIN THE JUNGLIST\n[ Middle Distance Productions\, Alterted Tactics ]\nhttps://soundcloud.com/sabinthejunglist\n. . . . \nLYCEUM\n[ SubDIstrick ]\nhttps://soundcloud.com/lyceumdc\n. . . . \nJULEZ\n[ SubDistrick ]\nhttps://soundcloud.com/julezdc\n. . . . \nKINETIKS MC\n[ SubDistrick ]\nhttps://soundcloud.com/kinetiksmc\n. . . . \nSpecial guest: \nROBERT MANOS\n[ Secret Operations\, Paradox Music ]\nhttps://m.soundcloud.com/robert-manos \n+21 | $5 All Night\nBackbar\, 815 V St NW\, Washington\, DC 20001
URL:https://www.kinetiksmc.com/event/subdistrick_july2016/
LOCATION:930 Club Backbar\, 815 V St NW\, Washington\, DC\, 20001\, United States
CATEGORIES:Backbar,Club,DC,DCDNB,Hosting,SubDistrick
ATTACH;FMTTYPE=image/jpeg:https://www.kinetiksmc.com/site/wp-content/uploads/2016/08/13613215_535118790023635_3985351917875067104_o.jpg
END:VEVENT
BEGIN:VEVENT
DTSTART;TZID=America/New_York:20160615T220000
DTEND;TZID=America/New_York:20160616T030000
DTSTAMP:20260423T192359
CREATED:20160530T232604Z
LAST-MODIFIED:20160530T232604Z
UID:595-1466028000-1466046000@www.kinetiksmc.com
SUMMARY:Konkrete Jungle DC: Matrix & Futurebound + Teddy Killerz - 6/15!!
DESCRIPTION:(Tickets are LIVE now @ Ticketfly) \n3D Productions presents: \n◄◄◄◄◄Konkrete Jungle DC►►►►►\nGoing hard with two DC debuts on a Wednesday! Matrix & Futurebound + Teddy Killerz – 6/15!! \nFeaturing… \nMatrix & Futurebound\n(Viper Recordings | London UK)\nBiography: https://soundcloud.com/matrixandfuturebound \nTeddy Killerz\n(RAM Records | Russia)\nLong Description: https://soundcloud.com/teddykillerz \nSupport: \nM. Pyre \nCoastill (SubDistrick) \nHosted by: Kinetiks MC! \n\n18+\nU Street Music Hall\n1115 U street NW DC\nhttps://www.facebook.com/Konkrete-Jungle-DC\nhttps://www.facebook.com/3DProductionsDC \nTickets @ www.Ticketfly.com
URL:https://www.kinetiksmc.com/event/matrixfb_kjdc/
LOCATION:U Street Music Hall\, 1115 U street NW DC \, Washington\, DC\,  20010
CATEGORIES:3D Productions,Club,DC,DCDNB,Hosting,U Street Music Hall,Venue
ATTACH;FMTTYPE=image/jpeg:https://www.kinetiksmc.com/site/wp-content/uploads/2016/05/Matrix-Futurebound-Teddy-Killerz-Coastill_USt_KJDC061516.jpg
ORGANIZER;CN="3D Productions":MAILTO:dom@3dpartyevents.com
END:VEVENT
BEGIN:VEVENT
DTSTART;TZID=America/New_York:20160519T220000
DTEND;TZID=America/New_York:20160520T030000
DTSTAMP:20260423T192359
CREATED:20160528T145429Z
LAST-MODIFIED:20160528T145429Z
UID:583-1463695200-1463713200@www.kinetiksmc.com
SUMMARY:Cadence: Klute & Makoto + Robert Manos @ Flash!
DESCRIPTION:Fb event: Cadence presents: Klute & Makoto + Robert Manos @ Flash! \nThursday\, May 19th: Jen Jaxon + Vanniety Kills’ Birthdays \nClub level:\nKlute – Official !!!\nMAKOTO\nDJ Vanniety Kills\nRobert Manos + Kinetiks MC \nFlash Bar:\nDJ Kochi\nTim Jackson (Jackson Pro Audio)\nThe Elders ( Deep Sugar Music ) \nLimited $10-20 advance tickets here: https://www.ticketfly.com/purchase/event/1134337 \nNo comps. Lots of love & bass.\n9pm. $25 door.\n21+
URL:https://www.kinetiksmc.com/event/cadence_klutemakoto/
LOCATION:Flash\, 645 Florida Ave NW\, Washington\, DC \, DC\, 20001\, United States
CATEGORIES:Cadence,Club,DC,DCDNB,Flash,Hosting
ATTACH;FMTTYPE=image/jpeg:https://www.kinetiksmc.com/site/wp-content/uploads/2016/05/13173545_1127015740654355_9182178445856654321_o.jpg
END:VEVENT
BEGIN:VEVENT
DTSTART;TZID=America/New_York:20160325T220000
DTEND;TZID=America/New_York:20160326T030000
DTSTAMP:20260423T192359
CREATED:20160528T144004Z
LAST-MODIFIED:20160528T144004Z
UID:951-1458943200-1458961200@www.kinetiksmc.com
SUMMARY:The World of Drum & Bass DC
DESCRIPTION:3D Productions and Badass Raves present~ \nTHE WORLD OF DRUM & BASS DC ~ WODNB  \nfeaturing \n*GROOVERIDER* \nhttps://facebook.com/djgrooverider/\nhttps://soundcloud.com/djgrooverider1 \n*DRUMSOUND & BASSLINE SMITH* \nhttps://facebook.com/drumsoundandbasslinesmith/\nhttps://soundcloud.com/drumsoundandbasslinesmith \n*DJ SS* \nhttps://facebook.com/DjssFanPage/\nhttps://soundcloud.com/djss-formation \n*CRISSY CRISS* \nhttps://facebook.com/crissycriss\nhttps://soundcloud.com/crissycriss \nLOCAL SUPPORT: \nLocks of Intellect B2B Godfather Sage \nDeinfamous \nHosted by: Kinetiks MC \nWarehouse Party\n21+\n$20 presale @ ticketfly.com\, $25 at the door
URL:https://www.kinetiksmc.com/event/the-world-of-drum-and-bass-dc-2/
LOCATION:Dance Loft\, 4618 14th St NW\, \, Washington\, DC\, DC\,  20009\, United States
CATEGORIES:3D Productions,Club,DC,DCDNB,Hosting
ATTACH;FMTTYPE=image/jpeg:https://www.kinetiksmc.com/site/wp-content/uploads/2016/03/10391994_10153483862577852_4377265072398965969_n.jpg
ORGANIZER;CN="3D Productions":MAILTO:dom@3dpartyevents.com
END:VEVENT
BEGIN:VEVENT
DTSTART;TZID=America/New_York:20160130T230000
DTEND;TZID=America/New_York:20160131T030000
DTSTAMP:20260423T192359
CREATED:20160102T023630Z
LAST-MODIFIED:20160102T023630Z
UID:950-1454194800-1454209200@www.kinetiksmc.com
SUMMARY:SubDistrick!! 1/30/16 - 4 Year Anniversary!
DESCRIPTION:Fb event: SubDistrick!! January 30th 2016 – 4 Year Anniversary! \nWith amazement and much gratitude SubDistrick shakes a leg and ass to celebrate 4 years of local Drum&Bass ~ ‘Bass Bunka Bizzness’ stylee! \nFor those that don’t know – This all local DJ showcase goes down every month in the Bass Bunka (aka the Back Bar at the infamous 9:30 Club\, Wash. DC). The event was created as an outlet for DJs\, Producers\, and labels to flex their skills and sounds with no outside pressures – just come do your thing and come correct! \nNeedless to say 4 years later and headz are still coming correct\, mashing up the dance floor and destroying the Bass Bunka! Much thanks and respect to all the DJs\, Producers and Labels that have volunteered your time and skills for our listening and dancing pleasures – SubDistrick and your dance community thanks you! \nThis month we are well pleaesed to have two brand new guests to SubD. Both well known names in the DMV and with skillz to back it – we have: BLAZE ONE and SEANY RANKS holding down our two guest spots. \nResident DJs LYCEUM and JULEZ (fresh back from his Asia sojourn) will be bringing the 4 year thunda for the crew. On the mike and keeping things glued tight – we have the mighty KINETIKS MC! \nTRUST – This night is gonna go off! Big up yourselves – each and everyone of you! Much thanks and respect for all your support and love over the years – see YOU soon!! ♥ \nLine-up: \nBLAZE ONE\n[Tribalistix]\nhttps://soundcloud.com/blaze-one\n. . . . . . . \nSEANY RANKS\n[Cadence]\nhttps://soundcloud.com/seany-ranks-1\n. . . . . . . \nLYCEUM\n[SubDistrick]\nhttps://soundcloud.com/lyceumdc\n. . . . . . . \nJULEZ\n[SubDistrick]\nhttps://soundcloud.com/julezdc\n. . . . . . . \nKINETIKS MC\n[SubDistrick]\nhttps://soundcloud.com/kinetiksmc\n. . . . . . . \n+21 to ENTER\n$5 ALL NIGHT \nSubD Archive: https://soundcloud.com/subdistrick
URL:https://www.kinetiksmc.com/event/subdistrick-013016-2/
LOCATION:930 Club Backbar\, 815 V St NW\, Washington\, DC\, 20001\, United States
CATEGORIES:Backbar,Club,DC,DCDNB,Hosting,SubDistrick
ATTACH;FMTTYPE=image/jpeg:https://www.kinetiksmc.com/site/wp-content/uploads/2016/01/10628826_879596012156266_8825450881939962008_o-2.jpg
END:VEVENT
BEGIN:VEVENT
DTSTART;TZID=America/New_York:20151113T220000
DTEND;TZID=America/New_York:20151114T030000
DTSTAMP:20260423T192359
CREATED:20151012T130925Z
LAST-MODIFIED:20151012T130925Z
UID:936-1447452000-1447470000@www.kinetiksmc.com
SUMMARY:DJ Dara at Zeba Bar! (11/13)
DESCRIPTION:“No Time For Rewinds” – DJ Dara at Zeba Bar! (11/13) \nDARA\n(Planet of the Drums\, Breakbeat Science) \nSubversions\n(Deinfamous\, DJ a.M.p.\, MC Twisty) \nCoastill\n(SubDistrick\, Atomic Zoo Recordings) \nCadence Residents\n(Drone\, Seany Ranks\, Vanniety Kills) \nKinetiks MC will be on set to navigate the ride!\n(www.kinetiksmc.com\, Soulstealer Sessions\, SubDistrick) \nHeavyweight sound and proper vibes provided by:\nThe Blud Step Crew (Keely\, Biff\, Jeff\, Mary Anne) \nTickets available here…\nhttp://bit.ly/1JTETT8 \nZeba Bar\n3423 14th St NW\nWashington\, DC\n======================== \nBig Up Stickups\nhttps://www.facebook.com/bigupstickups\nCadence\nhttps://www.facebook.com/cadencedc\nZeba Bar\nhttps://www.facebook.com/Zeba-Bar-136491049756285/timeline/ \n========================\nDJ DARA\nA member of the infamous Planet of the Drums crew alongside fellow drum ‘n bass pioneers AK1200\, Dieselboy\, & J Messinian\, this Irish transplant has been a dominant figure in the U.S. drum ‘n bass scene since his arrival here in 1994. His discography includes 2 critically acclaimed full length artist albums\, 8 DJ mix CDs\, as well as numerous singles and remixes for artists such as Freq Nasty\, Afrika Bambaata and Keoki. Dara co-founded the nation’s first & largest drum ‘n bass record store\, Breakbeat Science\, in NYC which doubles as his own imprint\, Breakbeat Science Recordings. He has been featured in countless magazine articles and interviews both in the US and worldwide. He previously hosted one of the internet’s most popular drum ‘n bass broadcasts\, Velocity\, where he regularly interviewed leading drum ‘n bass artists such as Jonny L\, Kemistry & Storm\, Trace\, Ed Rush\, Optical\, Hype\, Andy C\, Zinc\, and many others. Dara’s long standing relationsh+++ips with the world’s drum ‘n bass elite gives him access to an astounding amount of new and unreleased material. His brilliant recording endeavors along with his incessant touring markey by consistently awe-inspiring DJ sets have made him one of the most recognized and well respected DJs in the country.
URL:https://www.kinetiksmc.com/event/notimeforrewinds-2/
LOCATION:Zeba Bar\, 3423 14 St. NW\, Washington\, DC\, 20010\, United States
CATEGORIES:Cadence,Club,DC,DCDNB,Hosting,Zeba Bar
ATTACH;FMTTYPE=image/jpeg:https://www.kinetiksmc.com/site/wp-content/uploads/2015/10/12063392_905360849511605_6250396796698354331_n.jpg
END:VEVENT
END:VCALENDAR