BEGIN:VCALENDAR
VERSION:2.0
PRODID:-//Kinetiks MC - ECPv6.15.1.1//NONSGML v1.0//EN
CALSCALE:GREGORIAN
METHOD:PUBLISH
X-ORIGINAL-URL:https://www.kinetiksmc.com
X-WR-CALDESC:Events for Kinetiks MC
REFRESH-INTERVAL;VALUE=DURATION:PT1H
X-Robots-Tag:noindex
X-PUBLISHED-TTL:PT1H
BEGIN:VTIMEZONE
TZID:America/New_York
BEGIN:DAYLIGHT
TZOFFSETFROM:-0500
TZOFFSETTO:-0400
TZNAME:EDT
DTSTART:20150308T070000
END:DAYLIGHT
BEGIN:STANDARD
TZOFFSETFROM:-0400
TZOFFSETTO:-0500
TZNAME:EST
DTSTART:20151101T060000
END:STANDARD
END:VTIMEZONE
BEGIN:VEVENT
DTSTART;TZID=America/New_York:20151219T200000
DTEND;TZID=America/New_York:20151220T020000
DTSTAMP:20260423T182341
CREATED:20151201T174516Z
LAST-MODIFIED:20151201T174516Z
UID:943-1450555200-1450576800@www.kinetiksmc.com
SUMMARY:Elm Imprint + Tribalistix present R.A.W @ Carpool - (12/19)
DESCRIPTION:Fb event: Elm Imprint & Tribalistix present R.A.W @ Carpool! \nElm Imprint/Elm Imprint and Digital and Tribalistix Sound are teaming up to bring you one amazing night of drum & bass\, jungle\, dubwise\, reggae/dancehall\, and good beer! \n**R.A.W. aka 6Blocc (Official fan page) aka Bboy 3000** \n6Blocc got his start way back in the late 80’s mixing hip hop\nand electro in his home town of Los Angeles and playing on the legendary\nKDAY radio station. During this time\, he was constantly in dj battles all over\nLos Angeles and working as a stage dj for rappers like the legendary\nKurtis Blow and Mix Master Spade. This time in the early hip hop scene gave him the skills he’s now known for throughout the world. \nBy 1992\, he began to buy electronic import records (techno / jungle) and play under the name R.A.W. (rules all warehouses) and every weekend he was booked dropping jungle and hardcore which took L.A. by storm. He then went on to share the stage with every big name from different fields of electronic music\, even opening for David Byrne and band Soul Coughing at\nThe Mayan in Los Angeles. From 1997 to 2005 R.A.W. managed to drop over 100 vinyl releases on labels such as Warner Bros.\, N20\, Mictlan\, Sound Sphere\, Thermal\, Amen Factory and Dj Sappo’s Babylon label. Reppin’ the harder side of jungle music he went on to do 4 tours of Europe\, 3 tours in Canada\, 6 tours in Mexico and even a tour in Japan! \nIn 2006\, R.A.W. morphed into 6Blocc and the music went from 175 to 140 beats per minute but the bass stayed thick and heavy. Since then\, 6Blocc has dropped over 14 vinyl releases and dozens of digital bangers on labels like RCA\, Ultra\, Lo Dubs\, Phantom Hertz\, Moonshine\, Terminal Dusk\, Sub Depth and his own remix label called 6Dub. Since then he has gained thousands of fans around the world and has touched down in Japan\, Australia\, Canada\, Russia\, France\, Germany\, Belgium\, Netherlands\, Poland\, Czech Republic\, Italy\, Ukraine\, Lithuania\, Austria\, Israel\, Mexico\, Venezuela and every major city in the USA. \n6Blocc is also busy around the clock knocking out sample packs for Industrial Strength Records / Loopmasters.com which have received acclaim from Keith Shocklee\,\nTom Middleton and are even being used by Teddy Riley during his NAMM showcases! His most successful sample packs have been his\nTrap vs Juke packs\, Robotik vocoder sample pack and his latest\, Drumshot Ammo pack. \nWhen 6Blocc isn’t wrecking the turntables on stage he’s in the studio cranking out the baddest dubstep productions and remixes for artists like DJ Muggs\, Bassnectar\, Diplo\, Matty G\, Bizzy B\, Vibration Lab\, Titan Sound\, The Bassist\, Dub FX\, Don Goliath\, Roommate and reggae artists Junior Demus\, Ranking Joe\, Alika\, Asher D\, Daddy Freddy\, Steppa Style\, Gappy Ranks\, Lutan Fyah\, Chuck Fender\, Jigsy King\, I Razor\, Jr Cat and Lexxus. \nRecent music release Highlights:\nDj Muggs – Bass For Your Face Album (co-production)\nDj Muggs feat. Dizzee Rascal – Snap Ya Neck Back (co-production)\nDj Muggs feat. Chuck D – Wicked (co-production)\nSnoop Lion feat. Major Lazer – Here Comes The King (producer)\nAsher D & Daddy Freddy – Raggamuffin Hip Hop Remix (producer)\nDaddy Freddy – Jamaica To Miami Trap remix (producer)\nAswad – Come With The Love Remix (producer)\nJunior Demus – Jungle Stabbin’ Remix (producer)\nSteppa Style – No Sound Remix (producer) \nwww.6blocc.com\nwww.facebook.com/6bloccOfficial\nwww.soundcloud.com/digital6\nwww.twitter.com/6blocc\nwww.youtube.com/user/OG6BLOCC \n**ILL OMEN B2B PATRICK CURRIER W/ KINETIKS MC** (Vinyl Set)\nElm Imprint\, Faction Digital Recordings\, Bassdrive\, VA\nhttps://soundcloud.com/elm-imprint\nhttps://soundcloud.com/ill-omen\nhttps://soundcloud.com/patrickcurrier\nhttps://m.facebook.com/kinetiksdamic/ \n**Blaze One of Tribalistix Sound B2B TWINHOOKER™**\nhttps://soundcloud.com/twinhooker\nhttp://www.discogs.com/artist/209114-Twinhooker\nhttps://soundcloud.com/blaze-one\nhttps://soundcloud.com/tribalistix-sound \n**TRA_35 B2B JyNx **\nhttps://soundcloud.com/jynxva\nhttps://soundcloud.com/dub-chamber-records\nhttps://soundcloud.com/torn-rugged-audio-35\nhttp://www.bulletproofwaxllc.com/#!artists/cpki \n**Bob/Dylan’s Sound System**\nWarming up the crowd with positive vibes\, reggae\, dub\, and dancehall \n21+ $6
URL:https://www.kinetiksmc.com/event/elm-tribalistix-carpool-121915-2/
LOCATION:Carpool\, 208 Elden St\, Herndon\, VA\, 20170\, United States
CATEGORIES:Carpool,Elm Imprint,Herndon,Hosting,Location,Promoter,Tribalistix,VA,Venue
ATTACH;FMTTYPE=image/jpeg:https://www.kinetiksmc.com/site/wp-content/uploads/2015/12/RAW-at-Carpool.jpg
END:VEVENT
END:VCALENDAR