BEGIN:VCALENDAR
VERSION:2.0
PRODID:-//Kinetiks MC - ECPv6.15.1.1//NONSGML v1.0//EN
CALSCALE:GREGORIAN
METHOD:PUBLISH
X-WR-CALNAME:Kinetiks MC
X-ORIGINAL-URL:https://www.kinetiksmc.com
X-WR-CALDESC:Events for Kinetiks MC
REFRESH-INTERVAL;VALUE=DURATION:PT1H
X-Robots-Tag:noindex
X-PUBLISHED-TTL:PT1H
BEGIN:VTIMEZONE
TZID:America/New_York
BEGIN:DAYLIGHT
TZOFFSETFROM:-0500
TZOFFSETTO:-0400
TZNAME:EDT
DTSTART:20160313T070000
END:DAYLIGHT
BEGIN:STANDARD
TZOFFSETFROM:-0400
TZOFFSETTO:-0500
TZNAME:EST
DTSTART:20161106T060000
END:STANDARD
BEGIN:DAYLIGHT
TZOFFSETFROM:-0500
TZOFFSETTO:-0400
TZNAME:EDT
DTSTART:20170312T070000
END:DAYLIGHT
BEGIN:STANDARD
TZOFFSETFROM:-0400
TZOFFSETTO:-0500
TZNAME:EST
DTSTART:20171105T060000
END:STANDARD
BEGIN:DAYLIGHT
TZOFFSETFROM:-0500
TZOFFSETTO:-0400
TZNAME:EDT
DTSTART:20180311T070000
END:DAYLIGHT
BEGIN:STANDARD
TZOFFSETFROM:-0400
TZOFFSETTO:-0500
TZNAME:EST
DTSTART:20181104T060000
END:STANDARD
END:VTIMEZONE
BEGIN:VEVENT
DTSTART;TZID=America/New_York:20180224T230000
DTEND;TZID=America/New_York:20180225T030000
DTSTAMP:20260423T164914
CREATED:20180117T061606Z
LAST-MODIFIED:20180303T203746Z
UID:1322-1519513200-1519527600@www.kinetiksmc.com
SUMMARY:SubDistrick! - February 2018 - [02.24.18]
DESCRIPTION:SubD bubbles back with a special farewell bounce and lift off for this months edition. One of the crews bredren takes wing west side.. yes we will miss the energies of brother Ben Black aka PLUS GOOD but wish him well and will send him off with a ( ( BOOOOOOOH ) ) \nAs for our guests…. Don’t stress the DJ STRESS just watch the dance floor press. We also have CJ WEAVER returning to the bunka armed with plenty of original dubs n vibes. Two true veterans from the old school 😉 \nBackin up bizzness we have residents JULEZ alongside the mighty KINETIKS MC! Full spectrum rinse out\, see you on the dance floor! \nSubDistrick = VIBEZ we ♥ our DC underground! Big up Fam old + new 🙂 P.LU.R. \n+21 ID REQUIRED | 11pm – 3am | $5.00 All night
URL:https://www.kinetiksmc.com/event/subd_feb18/
LOCATION:930 Club Backbar\, 815 V St NW\, Washington\, DC\, 20001\, United States
CATEGORIES:Backbar,Club,DC,DCDNB,Hosting,SubDistrick
ATTACH;FMTTYPE=image/jpeg:https://www.kinetiksmc.com/site/wp-content/uploads/2018/03/SubDistrick-Feb-2018-Feat-Plus-Good-Julez-DJ-Stress-CJ-Weaver-Kinetiks-MC.jpg
END:VEVENT
BEGIN:VEVENT
DTSTART;TZID=America/New_York:20171028T230000
DTEND;TZID=America/New_York:20171029T030000
DTSTAMP:20260423T164914
CREATED:20171022T140655Z
LAST-MODIFIED:20171022T140927Z
UID:1248-1509231600-1509246000@www.kinetiksmc.com
SUMMARY:SubDistrick! - October 2017 [10/28/17]
DESCRIPTION:FB: SubDistrick October 2017! \nOctober’s chill brings new heat to the Bass Bunka with the debut of local selektas and SubD Fam —> J.A.N. [Fun&Bass\, MDP] with PATURN [Transit\, MadHabits ] \nResident support from ninjedi\, ROGUE STATE\, SubD Gate Keeper JULEZ and master of bass bunka ceremonies\, KINETIKS MC! \nGuest DJs:\n********\nJ.A.N. [ Fun&Bass\, MDP ]\nhttps://soundcloud.com/jmd703 \nPATURN [ Transit\, Mad Habits ]\nsoundcloud.com/paturnsound\nfacebook.com/paturnsound\ninstagram.com/paturnsound \nResident Support\n********\nKINETIKS MC [ SubD\, 3D Productions ]\nhttps://soundcloud.com/kinetiksmc\nhttp://www.kinetiksmc.com/\nhttps://www.facebook.com/kinetiksMC \nROGUE STATE [ SubD\, Translation Recordings\, Bassdrive ]\nhttps://soundcloud.com/rogue-state-usa\nhttps://soundcloud.com/translationrecordings \nJULEZ [ SubD\, 31 Recordings ]\nhttps://soundcloud.com/julezdc\nhttps://www.facebook.com/DCjulez/ \n********\n$5 All Night\n+21 with ID \nhttps://www.facebook.com/SubDistrick/
URL:https://www.kinetiksmc.com/event/subdoct2017/
LOCATION:930 Club Backbar\, 815 V St NW\, Washington\, DC\, 20001\, United States
CATEGORIES:Backbar,Club,DC,DCDNB,Hosting,SubDistrick
ATTACH;FMTTYPE=image/jpeg:https://www.kinetiksmc.com/site/wp-content/uploads/2017/10/22519792_1455228634592998_8784715082531096557_o.jpg
END:VEVENT
BEGIN:VEVENT
DTSTART;TZID=America/New_York:20170624T230000
DTEND;TZID=America/New_York:20170625T030000
DTSTAMP:20260423T164914
CREATED:20170614T021434Z
LAST-MODIFIED:20170614T021434Z
UID:888-1498345200-1498359600@www.kinetiksmc.com
SUMMARY:SubDistrick! June 2017 - 3D Productions Takeover! [06.24.17]
DESCRIPTION:Fb: SubDistrick June 2017 – 3D Productions Takeover @ SubD! \nSubD is very pleased to welcome home our youngest and perhaps most talented member of the crew\, COASTILL aka “Boy Wonder”!! \nYes DC – trust the bass bunka will get torn a new one as this force of nature takes the helm. Expect originals and bangers droped with razor precision as Coastill launches the dance into the next stratosphere! \nDropping in the heavy VIP bizzle we have none other than DEINFAMOUS! One of DCs D&B vets\, original rude boy and absolute legend behind the decks. Watch for that neck snap cuz it’s gonna be a ride! \nRounding out the night beautifully is local talent and new school sound boy\, GLOBB! The new new reppin it proper with some nasty future filth! Come ready to sweat 😉 \nResident support from souljah’s JULEZ and KINETIKS MC. Expect the unexpected and lots of VIBEZ! \nMassive love to each and every one of you. DC D+B see you in the dance!\n♥ \nKINETIKS MC\n[ SubDistrick\, 3D Productions ]\nhttps://soundcloud.com/kinetiksmc\n. . .\nCOASTILL\n[ SubDistrick\, 3D Productions\, Atomic Zoo\, DOD ]\nhttps://soundcloud.com/coastill\n. . .\nDEINFAMOUS\n[ 3D Productions\, Symbiotic\, Elm Imprint ]\nhttps://soundcloud.com/deinfamous\n. . .\nGLOBB\n[ 3D Productions\, Mushmouth Media\, Subsdance ]\nhttps://www.facebook.com/djglobb\n. . .\nJULEZ\n[ SubDistrick\, One Love Massive ]\nhttps://soundcloud.com/julezdc \n** As always ALL are welcome\, celebrated and loved! **\n$5 All Night\n21+
URL:https://www.kinetiksmc.com/event/subd_june17/
LOCATION:930 Club Backbar\, 815 V St NW\, Washington\, DC\, 20001\, United States
CATEGORIES:Backbar,Club,DC,DCDNB,Hosting,SubDistrick
ATTACH;FMTTYPE=image/jpeg:https://www.kinetiksmc.com/site/wp-content/uploads/2017/06/19095653_1331016967014166_8928442150423926457_o-1.jpg
END:VEVENT
BEGIN:VEVENT
DTSTART;TZID=America/New_York:20170527T230000
DTEND;TZID=America/New_York:20170528T030000
DTSTAMP:20260423T164914
CREATED:20170430T190410Z
LAST-MODIFIED:20170430T190410Z
UID:1088-1495926000-1495940400@www.kinetiksmc.com
SUMMARY:SubDistrick May 2017 - Exiled Recordings Takeover! [5/27/17]
DESCRIPTION:Fb: SubDistrick May 2017 – Exiled Recordings Takeover! \nSubDistrick is very pleased to present this months take-over\nfeaturing local label – EXILED RECORDINGS! \nLabel boss Jermie Jones\, aka ABYSS – not only has one of the biggest hearts in our scene\, but pours countless hours of time and money into our scene and the music he is so passionate about. For that SubD Salutes you and with great anticipation and pleasure\, turn over the bass bunka for what will surely be a BANGER NIGHT! \nPulling out all the stops\, EXILED RECORDINGS treats DC with a SICK line-up of some of the heavy hitters from their artist roster – to include the mighty DAVE OWEN ( touching down in DC especially for us! ) \nDC D&B get ready\, mark your calenders – your launch pad is ready for blast off! \nAs always the night will be skillfully guided in the flow by the one and only KINETIKS MC! \nWe can’t wait to vibe out with you nuttas~! \nAs always ALL are welcome and celebrated.\n** PEACE ** LOVE ** UNITY ** RESPECT **\n( and yes we just P.LU.R.ed your ass! ♥ ) \nLINE-UP: \nDAVE OWEN\n[ Exiled Recordings\, V Recordings\, Good Looking Records\, Fokus ]\nhttps://soundcloud.com/dave-owen\n. . . . \nTRADECRAFT\n[ Exiled Recordings ]\nhttps://soundcloud.com/exiled_recordings\n. . . . \nABYSS\n[ Exiled Recordings\, Different Drumz ]\nhttps://soundcloud.com/exiled_recordings\n. . . . \nLYCEUM\n[ SubDistrick\, Oblivion ]\nhttps://soundcloud.com/lyceumdc\n. . . . \nJULEZ\n[ SubDistrick\, One Love Massive\, 88 ]\nhttps://soundcloud.com/julezdc\n. . . . \nKINETIKS MC\n[ SubDistrick\, Temporal Fusion\, 3D ]\nhttps://soundcloud.com/kinetiksmc
URL:https://www.kinetiksmc.com/event/subd_may17-2/
LOCATION:930 Club Backbar\, 815 V St NW\, Washington\, DC\, 20001\, United States
CATEGORIES:Backbar,Club,DC,DCDNB,Hosting,SubDistrick
ATTACH;FMTTYPE=image/jpeg:https://www.kinetiksmc.com/site/wp-content/uploads/2017/04/18404160_1299943453454851_3866371742718801095_o.jpg
END:VEVENT
BEGIN:VEVENT
DTSTART;TZID=America/New_York:20170429T230000
DTEND;TZID=America/New_York:20170430T030000
DTSTAMP:20260423T164914
CREATED:20170430T181015Z
LAST-MODIFIED:20170430T181015Z
UID:1086-1493506800-1493521200@www.kinetiksmc.com
SUMMARY:SubDistrick! April 2017 - [4/29/17]
DESCRIPTION:Fb event: https://www.facebook.com/events/1482382638501845/ \nDid you know that one Saturday in April is dedicated to independent record stores all over the world? Fact. ( Wiki says so 🙂 \nhttps://en.wikipedia.org/wiki/Record_Store_Day \nDo you remember those hallowed special spaces\, with stacks of vinyl and vibes? We do here at SubD and we want to help preserve and celebrate it! \nHelping to keep the vibes and vinyl alive we have local label Translation Recordings giving out free vinyl for the first 10 heads thru the door!! Early fiends get the bird or how does it go… 😉 Basically get there early! \nSo without further fuss\, we have these selectas bringning the ruff!\nOH… and that’s ALL VINYL all night! Hosted by the one and only Kinetiks MC! \nROGUE STATE\n[ Translation Recordings\, bassdrive.com ]\n. . .\nODJ\n[ Dirtbox Radio ]\n. . .\nPLUS GOOD\n[ SubDistrick ]\n. . .\nJULEZ\n[ SubDistrick ]\n. . .\nKINETIKS MC\n[ SubDistrick\, 3D Productions ]\n. . . \n$5 All Night | +21
URL:https://www.kinetiksmc.com/event/subd_april17-2/
LOCATION:930 Club Backbar\, 815 V St NW\, Washington\, DC\, 20001\, United States
CATEGORIES:Backbar,Club,DC,DCDNB,Hosting,SubDistrick
ATTACH;FMTTYPE=:
END:VEVENT
BEGIN:VEVENT
DTSTART;TZID=America/New_York:20170225T230000
DTEND;TZID=America/New_York:20170226T030000
DTSTAMP:20260423T164914
CREATED:20170212T232227Z
LAST-MODIFIED:20170212T232227Z
UID:965-1488063600-1488078000@www.kinetiksmc.com
SUMMARY:SubDistrick! February 2017 [2.25.17]
DESCRIPTION:Fb event: https://www.facebook.com/events/1848826192068583 \nRolling out February with another wikid local line-up\, SubDistrick brings you sounds from DC’s D&B underground. \nWe are doing a few things differently this year\, one of which is ‘Crew take-over editions’. Starting this wave and for the first time in the bunka\, we have… MiddleDistance Productions (MDP) taking you deep inside the ride! \n* * * MiddleDistance Productions Line-Up * * *\nhttps://www.facebook.com/MiddleDistanceProductions/?hc_ref=SEARCH \nRepping MDP and celebrating his birthday taboot\, we are very excited to welcome back veteran rude bwoy selecta\, SABIN THE JUNGLIST – tagging in a special B2B set with INNOVADAR – gracing SubD’s decks for the first time. Hold tight cuz these two bring the pressha!\nhttps://soundcloud.com/sabinthejunglist\nhttps://www.facebook.com/SabiNthejunglist/ \nRounding out MDPs line-up we are thrilled to have ADRIAN FURY -dropping science in the Bass Bunka for the first time\, this long time supporter and part of the SubD fam will be bringing the ruckus so break yo selves!\nhttps://soundcloud.com/kingfury1 \nHolding it down for the first half of the night we have SubDistrick residents PLUS GOOD and JULEZ rollin out the choicest cuts and that dangerous bass. Keeping everything glued together and bubblin – we are blessed to have SubD’s very own masta of the mic device.. KINETIKS MC!\nhttps://soundcloud.com/kinetiksmc\nhttps://soundcloud.com/plus-good\nhttps://soundcloud.com/julezdc \n** This month’s edition of SubDistrick is dedicated to the memory of our dearly departed friend and fellow SubD collaborator\, Conor Dalton. We’ll be sending him off in the style we know best\, by sharing positive vibes\, fond memories\, and by rolling the drum & bass beats that he loved. Please join us at Backbar on 2/25 in celebrating his life and the beautiful mark that he left on this world. ** \nAs always ALL ARE WELCOME! ♥ We are living in crazy times and we need your positivity and to fuel our fight and dance of resistance. SubDistrick is a safe zone for ALL PEOPLES of ALL BELIEFS and ANY PREFERENCE. Freaky-deeky is always welcomed and celebrated! WE LOVE YOU DC – fuck the bullshit\, lets dance. \nFor SubDistricks full mix archive\, all available for free download – please visit our Soundcloud page and follow us here 🙂\nhttps://soundcloud.com/subdistrick \n9:30 Club Backbar – 815 V St. NW DC \n$5 All night\n+21
URL:https://www.kinetiksmc.com/event/subd_feb2017-2/
LOCATION:930 Club Backbar\, 815 V St NW\, Washington\, DC\, 20001\, United States
CATEGORIES:Backbar,Club,DC,DCDNB,Hosting,SubDistrick
ATTACH;FMTTYPE=image/jpeg:https://www.kinetiksmc.com/site/wp-content/uploads/2017/02/16487151_1193019497480581_5107195336972316612_o.jpg
END:VEVENT
BEGIN:VEVENT
DTSTART;TZID=America/New_York:20170128T230000
DTEND;TZID=America/New_York:20170129T030000
DTSTAMP:20260423T164914
CREATED:20170117T012742Z
LAST-MODIFIED:20170117T012742Z
UID:964-1485644400-1485658800@www.kinetiksmc.com
SUMMARY:SubDistrick! January 2017 [1.28.17]
DESCRIPTION:Fb event: https://www.facebook.com/events/121239701714157/ \nSubDistrick! DC’s home for local Drum & Bass will be dropping bombs in the bunka\, bringing in the New Year proper with some serious dance floor devastation! \nJanuary’s lineup is stacked with some veteran talent\, digging deep to bring you some of the choicest old school and new school cuts … and YES\, some will even be playing vinyl! (for those of you who remember what that is �) \nNotorious for bringing out the headz\, trainspotters and dancing fiends\, SubD always brings the ruckus! The last Saturday of every month we throw down\, so come support local – share your vibes and help keep your scenes foundation strong! \nFuck the bullshit & stay passionate DC D+B\nSee YOU on the dance floor! \nLINE UP: \n• RHINO\n[ Dirty City ]\nhttps://soundcloud.com/dirtycity\n—–\n• DRIP\n[ Vinyl Purist Radio\, Homerekaz ]\nhttps://soundcloud.com/vinylpuristradio\n—–\n• LYCEUM\n[ SubDistrick ]\nhttps://soundcloud.com/lyceumdc\n—–\n• JULEZ\n[ SubDistrick\, 88 ]\nhttps://soundcloud.com/julezdc\n——- \n• Kinetiks MC\n[ SubDistrick\, 3D Productions\, Temporal Fusion ]\nhttps://soundcloud.com/kinetiksmc\n——-\n+21\n$5 ALL NIGHT\n11pm – 3am
URL:https://www.kinetiksmc.com/event/subd_jan2017-2/
LOCATION:930 Club Backbar\, 815 V St NW\, Washington\, DC\, 20001\, United States
CATEGORIES:Backbar,Club,DC,DCDNB,Hosting,SubDistrick
ATTACH;FMTTYPE=image/jpeg:https://www.kinetiksmc.com/site/wp-content/uploads/2017/01/15972649_1169117609870770_2193878300912087038_o.jpg
END:VEVENT
BEGIN:VEVENT
DTSTART;TZID=America/New_York:20161126T230000
DTEND;TZID=America/New_York:20161127T030000
DTSTAMP:20260423T164914
CREATED:20161208T072519Z
LAST-MODIFIED:20161208T072519Z
UID:725-1480201200-1480215600@www.kinetiksmc.com
SUMMARY:SubDistrick! November 2016 [11.26.16]
DESCRIPTION:Fb event: SubDistrick! November 2016 \nSubDistrick gives thanks in November & this season for DC Drum & Bass! Yes indeed there is much headz have to be grateful for living in the DMV these days. Plenty of action behind the decks and on the dance floors\, with a steady stream of some of the worlds best rinsing it on our doorstep.. yes life is good for DC D+B!\nFor those that don’t know SubDistrick was created to support our local Drum and Bass community\, so you won’t see any big name out-of-towners on our lineups. What you will see and hopefully discover\, is the wealth of talented DJs\, producers and Record labels that keep our local scene freash and bubblin. \nThis months lineup is no exception featuring some of the DMVs finest selectas – so hold tight for the ruckus! Get ready to move your ass and dance off some of that turkey stuffin! \nOn the mic and navigating the ride we have SubD resident KINETIKS MC –> https://soundcloud.com/kinetiksmc\nalongside DJs: \n• PSYKOFLY\n[ Modern Savage Recordings ]\nhttps://soundcloud.com/modern-savage-recordings \n• SEVEN\n[ Harbinger Industries ]\nhttps://soundcloud.com/djsevendc \n• LYCEUM\n[ SubDistrick ]\nhttps://soundcloud.com/lyceumdc \n+21 | $5 All Night
URL:https://www.kinetiksmc.com/event/subd_nov2016/
LOCATION:930 Club Backbar\, 815 V St NW\, Washington\, DC\, 20001\, United States
CATEGORIES:Backbar,Club,DC,DCDNB,Hosting,SubDistrick
ATTACH;FMTTYPE=image/jpeg:https://www.kinetiksmc.com/site/wp-content/uploads/2016/12/15128859_1117388451710353_4641703031831565629_o.jpg
END:VEVENT
BEGIN:VEVENT
DTSTART;TZID=America/New_York:20161029T230000
DTEND;TZID=America/New_York:20161030T030000
DTSTAMP:20260423T164914
CREATED:20161019T014054Z
LAST-MODIFIED:20161019T014054Z
UID:705-1477782000-1477796400@www.kinetiksmc.com
SUMMARY:SubDistrick! October 2016 - Halloween Edition! [10.29.16]
DESCRIPTION:Fb event: SubDistrick October 2016! Halloween Edition! \nThis month SubDistrick invites you to enter the Dungeon and explore it’s depths but at your own peril! Yes necks will be snapped and spines twisted as local D&B druids of the dark arts cast their spells in the chamber. \nWe are going in deep and dark this Halloween weekend so come prepared and get to know your dungeon masters: \n• KINETIKS MC\n[ SubDistrick\, 3D\, Temporal Fusion ]\nhttps://soundcloud.com/kinetiksmc \n• TANC + TIERNEN\n[ Dive and Lie Wrecked ]\nhttps://soundcloud.com/tanc-1\n\n• PLUS GOOD + LYCEUM\n[ SubDistrick ]\nhttps://soundcloud.com/plus-good\nhttps://soundcloud.com/lyceumdc \n• JULEZ\n[ SubDistrick\, 88\, One Love Massive ]\nhttps://soundcloud.com/julezdc\nhttps://www.facebook.com/DCjulez/ \n+21 | $5 All Night \n11pm – 3am\n9:30 Club – Backbar
URL:https://www.kinetiksmc.com/event/subd_halloween2016/
LOCATION:930 Club Backbar\, 815 V St NW\, Washington\, DC\, 20001\, United States
CATEGORIES:Backbar,Club,DC,DCDNB,Hosting,SubDistrick
ATTACH;FMTTYPE=image/png:https://www.kinetiksmc.com/site/wp-content/uploads/2016/10/14712844_1080857625363436_3778242685528650127_o.png
END:VEVENT
BEGIN:VEVENT
DTSTART;TZID=America/New_York:20160925T230000
DTEND;TZID=America/New_York:20160926T030000
DTSTAMP:20260423T164914
CREATED:20160920T050952Z
LAST-MODIFIED:20160920T050952Z
UID:680-1474844400-1474858800@www.kinetiksmc.com
SUMMARY:SubDistrick! - September 2016
DESCRIPTION:Fb event: SubDistrick September 2016! \nSubD September heat is here with a special ELM IMPRINT take-over! SubDistrick is all about supporting local D&B and recognizing the souljahs out there that put in hard work to help make our scene what amazingness it is today. So it is with great pleasure that we welcome ELM IMPRINT to the Bass Bunka! \nElm Imprint is an independent record label started in 2015 by Phil Watkins\, Aaron Duncan and Arch Dixon. Elm Imprint has a family of labels that include\, Faction Digital Recordings (all broken beats) and Pound Recordings (techno). Please see links for more info and full discography. \nBANDCAMP: https://elmimprint.bandcamp.com/\nSOUNDCLOUD: https://soundcloud.com/elm-imprint\nFACEBOOK: https://www.facebook.com/elm.imprint/ \nSo hold tight DC\, Elm & SubD are bringing the ruckus!! We welcome 4 of Elm Imprints recording artists: Patrick Currier tagging with N.L.I.C. and production duo and DJs\, BILL & ED! \nHolding it down for SubDistrick we have residents Lyceum and Julez bringing the cutz and thunda! \nDC D+B come get some �\nLINE-UP: \nPATRICK CURRIER\n[ Elm Imprint ]\nhttps://soundcloud.com/patrickcurrier\nhttps://soundcloud.com/elm-imprint\n. . . . . . .\nN.L.I.C.\n[ Elm Imprint\, Sonicterror Records ]\nhttp://www.sonicterror.net/\nhttps://www.facebook.com/nlic.sonicterror/\n. . . . . . .\nBILL & ED\n[ Elm Imprint ]\nhttps://www.facebook.com/billytrax\nhttps://soundcloud.com/bill_trill\nhttps://soundcloud.com/traxmandem\n. . . . . . .\nKINETIKS MC\n[ SubDistrick ]\nhttps://soundcloud.com/kinetiksmc\n. . . . . . .\nLYCEUM\n[ SubDistrick ]\nhttps://soundcloud.com/lyceumdc\n. . . . . . .\nJULEZ\n[ SubDistrick ]\nhttps://soundcloud.com/julezdc\nhttps://www.facebook.com/DCjulez/ \n21+ | $5 All Night\n11pm – 3am\n9:30 Club – Backbar
URL:https://www.kinetiksmc.com/event/subdistrick_september2016/
LOCATION:930 Club Backbar\, 815 V St NW\, Washington\, DC\, 20001\, United States
CATEGORIES:Backbar,Club,DC,DCDNB,Hosting,SubDistrick
ATTACH;FMTTYPE=image/jpeg:https://www.kinetiksmc.com/site/wp-content/uploads/2016/09/14344288_568735746667799_4572503575718800482_n-e1474348013587.jpg
END:VEVENT
BEGIN:VEVENT
DTSTART;TZID=America/New_York:20160827T230000
DTEND;TZID=America/New_York:20160828T030000
DTSTAMP:20260423T164914
CREATED:20160816T050802Z
LAST-MODIFIED:20160816T050802Z
UID:651-1472338800-1472353200@www.kinetiksmc.com
SUMMARY:SubDistrick! - August 2016 (8/27/16)
DESCRIPTION:Fb event –> SubDistrick! – August 2016 @ Backbar! \nSubD is turning up the heat this August as we prepare to drop bombs in the bass bunka with another sik local lineup. \nThis month we welcome our brother in bass back home from the Colorado mountains – NATURE RAGE – bringing the vibez and rinsin out a special all vinyl set! \nSubDistrick is please to welcome our homie v:shal kanwar to the bass bunka for his first session with the crew. Trust he will be bringing something special for the headz. \nResidents JULEZ and PLUS GOOD willl be holding it down flexin the jungle riddims\, half time bangers and dungeon beats. \nJoining the mighty KINETIKS MC we have MC CONCEPT running rhyme and keepin things bubblin! \nLINE UP:\n\nNATURE RAGE + MC CONCEPT\n[ Translation Recordings\, Noisy Meditation ]\nhttps://soundcloud.com/naturerage\n. . . . \nv:shal kanwar\n[ Meso Creso\, Global Groove ]\nhttps://soundcloud.com/vishal-kanwar\n. . . . \nJULEZ\n[ SubDistrick\, One Love Massive\, 88 ]\nhttps://soundcloud.com/julezdc\n. . . . \nPLUS GOOD\n[ SubDistrick ]\nhttps://soundcloud.com/plus-good \nKINETIKS MC \n[ SubDistrick\, 3D Productions\, Temporal Fusion ] \nhttp://soundcloud.com/kinetiksmc \n\n+21 | $5 All Night | 9:30 Club Backbar [815 V St. Washington DC]\n11pm – 3am \n~ PEACE + LOVE DC D+B ~
URL:https://www.kinetiksmc.com/event/subdistrick_august2016/
LOCATION:930 Club Backbar\, 815 V St NW\, Washington\, DC\, 20001\, United States
CATEGORIES:Backbar,Club,DC,DCDNB,Hosting,SubDistrick
ATTACH;FMTTYPE=image/jpeg:https://www.kinetiksmc.com/site/wp-content/uploads/2016/08/SubDistrick-August-27-2016.jpg
END:VEVENT
BEGIN:VEVENT
DTSTART;TZID=America/New_York:20160716T230000
DTEND;TZID=America/New_York:20160717T030000
DTSTAMP:20260423T164914
CREATED:20160816T051425Z
LAST-MODIFIED:20160816T051425Z
UID:653-1468710000-1468724400@www.kinetiksmc.com
SUMMARY:SubDistrick! - July 2016 (7/16/16) feat. ROBERT MANOS
DESCRIPTION:Fb event –> SubDistrick! – July 2016 @ Backbar! \nSubD bringing the Summer boom back to The Bass Bunka with another sick local lineup of D&B selectas. \nThis month we have Noistek bringing his VIP thunda along with SabiN the Junglist droppin’ some serious heat and knowlege on the decks. \nSubD support from Lyceum “the Dark Rider” and JULEZ DC\, bringing the dangerous kutts and heady vibez. \nAnd as always.. navigating the ride and keeping things lively\, the one Kinetiks MC! \nROBERT MANOS will be touching down in the bass bunker to lend his amazing vocal talents to the evening!! If you were at SubD in May then you know we’re in for a special night! \nDC let’s get dutty!\n\nLINE UP: \nNOISTEK\n[ Digi-Con\, 3D ]\nhttps://soundcloud.com/noistek\n. . . . \nSABIN THE JUNGLIST\n[ Middle Distance Productions\, Alterted Tactics ]\nhttps://soundcloud.com/sabinthejunglist\n. . . . \nLYCEUM\n[ SubDIstrick ]\nhttps://soundcloud.com/lyceumdc\n. . . . \nJULEZ\n[ SubDistrick ]\nhttps://soundcloud.com/julezdc\n. . . . \nKINETIKS MC\n[ SubDistrick ]\nhttps://soundcloud.com/kinetiksmc\n. . . . \nSpecial guest: \nROBERT MANOS\n[ Secret Operations\, Paradox Music ]\nhttps://m.soundcloud.com/robert-manos \n+21 | $5 All Night\nBackbar\, 815 V St NW\, Washington\, DC 20001
URL:https://www.kinetiksmc.com/event/subdistrick_july2016/
LOCATION:930 Club Backbar\, 815 V St NW\, Washington\, DC\, 20001\, United States
CATEGORIES:Backbar,Club,DC,DCDNB,Hosting,SubDistrick
ATTACH;FMTTYPE=image/jpeg:https://www.kinetiksmc.com/site/wp-content/uploads/2016/08/13613215_535118790023635_3985351917875067104_o.jpg
END:VEVENT
BEGIN:VEVENT
DTSTART;TZID=America/New_York:20160130T230000
DTEND;TZID=America/New_York:20160131T030000
DTSTAMP:20260423T164914
CREATED:20160102T023630Z
LAST-MODIFIED:20160102T023630Z
UID:950-1454194800-1454209200@www.kinetiksmc.com
SUMMARY:SubDistrick!! 1/30/16 - 4 Year Anniversary!
DESCRIPTION:Fb event: SubDistrick!! January 30th 2016 – 4 Year Anniversary! \nWith amazement and much gratitude SubDistrick shakes a leg and ass to celebrate 4 years of local Drum&Bass ~ ‘Bass Bunka Bizzness’ stylee! \nFor those that don’t know – This all local DJ showcase goes down every month in the Bass Bunka (aka the Back Bar at the infamous 9:30 Club\, Wash. DC). The event was created as an outlet for DJs\, Producers\, and labels to flex their skills and sounds with no outside pressures – just come do your thing and come correct! \nNeedless to say 4 years later and headz are still coming correct\, mashing up the dance floor and destroying the Bass Bunka! Much thanks and respect to all the DJs\, Producers and Labels that have volunteered your time and skills for our listening and dancing pleasures – SubDistrick and your dance community thanks you! \nThis month we are well pleaesed to have two brand new guests to SubD. Both well known names in the DMV and with skillz to back it – we have: BLAZE ONE and SEANY RANKS holding down our two guest spots. \nResident DJs LYCEUM and JULEZ (fresh back from his Asia sojourn) will be bringing the 4 year thunda for the crew. On the mike and keeping things glued tight – we have the mighty KINETIKS MC! \nTRUST – This night is gonna go off! Big up yourselves – each and everyone of you! Much thanks and respect for all your support and love over the years – see YOU soon!! ♥ \nLine-up: \nBLAZE ONE\n[Tribalistix]\nhttps://soundcloud.com/blaze-one\n. . . . . . . \nSEANY RANKS\n[Cadence]\nhttps://soundcloud.com/seany-ranks-1\n. . . . . . . \nLYCEUM\n[SubDistrick]\nhttps://soundcloud.com/lyceumdc\n. . . . . . . \nJULEZ\n[SubDistrick]\nhttps://soundcloud.com/julezdc\n. . . . . . . \nKINETIKS MC\n[SubDistrick]\nhttps://soundcloud.com/kinetiksmc\n. . . . . . . \n+21 to ENTER\n$5 ALL NIGHT \nSubD Archive: https://soundcloud.com/subdistrick
URL:https://www.kinetiksmc.com/event/subdistrick-013016-2/
LOCATION:930 Club Backbar\, 815 V St NW\, Washington\, DC\, 20001\, United States
CATEGORIES:Backbar,Club,DC,DCDNB,Hosting,SubDistrick
ATTACH;FMTTYPE=image/jpeg:https://www.kinetiksmc.com/site/wp-content/uploads/2016/01/10628826_879596012156266_8825450881939962008_o-2.jpg
END:VEVENT
END:VCALENDAR