BEGIN:VCALENDAR
VERSION:2.0
PRODID:-//Kinetiks MC - ECPv6.15.1.1//NONSGML v1.0//EN
CALSCALE:GREGORIAN
METHOD:PUBLISH
X-WR-CALNAME:Kinetiks MC
X-ORIGINAL-URL:https://www.kinetiksmc.com
X-WR-CALDESC:Events for Kinetiks MC
REFRESH-INTERVAL;VALUE=DURATION:PT1H
X-Robots-Tag:noindex
X-PUBLISHED-TTL:PT1H
BEGIN:VTIMEZONE
TZID:America/New_York
BEGIN:DAYLIGHT
TZOFFSETFROM:-0500
TZOFFSETTO:-0400
TZNAME:EDT
DTSTART:20160313T070000
END:DAYLIGHT
BEGIN:STANDARD
TZOFFSETFROM:-0400
TZOFFSETTO:-0500
TZNAME:EST
DTSTART:20161106T060000
END:STANDARD
END:VTIMEZONE
BEGIN:VEVENT
DTSTART;TZID=America/New_York:20160618T220000
DTEND;TZID=America/New_York:20160619T020000
DTSTAMP:20260423T191154
CREATED:20160531T013502Z
LAST-MODIFIED:20160531T013502Z
UID:605-1466287200-1466301600@www.kinetiksmc.com
SUMMARY:Globb's Birthday Bash presents: Hoogs @ Bambou - 6/18!
DESCRIPTION:♫♪♪♫•*¨*•.¸¸.•*¨*•♫♪♪♫•*¨*•.¸¸¸.•*¨*•♫♪♪♫•*¨*•.¸¸¸.•*¨*•♫♪♫•*¨*•♫♪♪\n╔══.♫.═════════.♫.═════════.♫.════════.♫.══╗\n¨*..*¨¨*..*¨¨*..*¨¨*..*¨¨*..*¨¨*..*¨¨*..*¨¨*..*¨¨*..*¨¨*..*¨¨*..*¨*..*¨¨*..*¨¨*..*¨¨* \n★★★ Globb’s Birthday Bash Presents: Hoogs @ Bambou – 6/18!★★★\n¯¯¯¯¯¯¯¯¯¯¯¯¯¯¯¯¯¯¯¯¯¯¯¯¯¯¯¯¯¯¯¯¯¯¯¯¯\n★★ Saturday June 18th\, 2016 \n★★ Come help Globb celebrate all June birthdays! \n¯¯¯¯¯¯¯¯¯¯¯¯¯¯¯¯¯¯¯¯¯¯¯¯¯¯¯¯¯¯¯¯¯¯¯¯¯\n✫ Hoogs (535 Recordings\, N.Y.) \nJungle\, Drum and Bass!!! \n(◣_◢) Bio (◣_◢) :\nFrom djing parties since 1997 to producing since 2001\, Hoogs is no rookie in drum and bass. \nLoving every style of drum and bass\, Hoogs shows great versatility in his productions and dj performances. He produces and mixes a variation of styles from jump up and jungle to deep and minimal. \nHoogs has set a high standard for quality in his production; and has been on an upward progression towards his goal of becoming a highly respected drum and bass producer. His recent productions have been gaining him a lot of attention from djs\, producers\, label owners\, and enthusiasts. \nLabel owner of 535 Recordings gives him and other artists an outlet for the more jungle\, deep\, and minimal sounds. \nHoogs takes pride in being a part of the drum and bass community. He does whatever possible to keep the scene healthy and flourished with quality music\, and wicked vibes in the place! \n� www.soundcloud.com/Hoogs \n� www.soundcloud.com/535 \n¯¯¯¯¯¯¯¯¯¯¯¯¯¯¯¯¯¯¯¯¯¯¯¯¯¯¯¯¯¯¯¯¯¯¯¯¯\n★★Support from: \n✫ Globb (2016 Birthday Set) \n� www.soundcloud.com/globb \n� www.facebook.com/djglobb \n¯¯¯¯¯¯¯¯¯¯¯¯¯¯¯¯¯¯¯¯¯¯¯¯¯¯¯¯¯¯¯¯¯¯¯¯¯\n★★On the microphone: \n✫ Kinetiks MC \n� www.facebook.com/kinetiksMC \n¯¯¯¯¯¯¯¯¯¯¯¯¯¯¯¯¯¯¯¯¯¯¯¯¯¯¯¯¯¯¯¯¯¯¯¯¯\n★★VA’s Finest Drum & Bass Takeover with: \n✫ ConduKtor \n� www.soundcloud.com/djconduktor \n✫ DTL Contraversy \n� www.soundcloud.com/contraversy_vas_finest \n� www.facebook.com/dtlcontraversy03 \n✫ Frankie Bass \n� www.soundcloud.com/frankiebass \n� www.facebook.com/Frankie-Bass-146946925372553 \n✫ Fringe \n� www.soundcloud.com/fringecp \n� www.facebook.com/FringeDnB \n✫ Gabe Da Aphrikan \n� www.soundcloud.com/gabe-da-aphrikan \n� www.facebook.com/Gabe-Da-Aphrikan-236070916425996 \n✫ Nutta \n� www.soundcloud.com/djnutta \n� www.facebook.com/NuttA-181581721890669 \n✫ Twizm \n� www.soundcloud.com/twizm \n� www.soundcloud.com/dj-twizm-1 \n¯¯¯¯¯¯¯¯¯¯¯¯¯¯¯¯¯¯¯¯¯¯¯¯¯¯¯¯¯¯¯¯¯¯¯¯¯\n★★Additional support from: \n✫ Always Alpha (Drum & Bass) \n� www.facebook.com/alwaysalphamusic \n✫ Bill & Ed (Jungle) \n� soundcloud.com/traxmandem \n� www.facebook.com/billytrax \n✫ C-Vision (Jump Up) \n� www.soundcloud.com/chismvision \n� www.facebook.com/Cvision1 \n✫ Daed Digital (Dubstep/Trap) \n� www.soundcloud.com/daedigital \n� www.facebook.com/DaedDigital \n✫ Data Drop b2b Rawphikki (Drum & Bass) \n� www.soundcloud.com/datadropmusic \n� www.facebook.com/juddydatadrop \n� www.soundcloud.com/jonathan-leary \n✫ DJ Starchild (Neurofunkyness) \n� www.mixcloud.com/mike-collins3 \n� www.facebook.com/starchildva \n✫ Eikkon (MUTB) \n� www.facebook.com/DJ-Eikkon-193033290708013 \n✫ Naughty Bitz (Drum & Bass) \n� www.soundcloud.com/naughty-bitz \n� www.facebook.com/bitzmusic \n✫ Noistek (Drum & Bass) \n� www.soundcloud.com/noistek \n✫ Pieraldi (House) \n� www.soundcloud.com/pieraldi \n✫ Psykofly (Drum & Bass) \n� www.soundcloud.com/psykofly-1 \n� www.facebook.com/Psykoflymusic \n✫ Tzinipia (House) \n� www.facebook.com/tzinipa \n✫ X-Statik (Multi-genre) \n� www.soundcloud.com/statikskye \n� www.facebook.com/djstatikskye \n¯¯¯¯¯¯¯¯¯¯¯¯¯¯¯¯¯¯¯¯¯¯¯¯¯¯¯¯¯¯¯¯¯¯¯¯¯\n★★Featuring: \n✫ 50\,000 watts of sound on the main stage ✫ \n✫ 3 stages with music and lights from 8PM – 2AM ✫ \n✫ Drinks all night long ✫ \n¯¯¯¯¯¯¯¯¯¯¯¯¯¯¯¯¯¯¯¯¯¯¯¯¯¯¯¯¯¯¯¯¯¯¯¯¯ \n★Promotional support provided by: \n✫ Undead Promos \n� www.facebook.com/undeadraves \n✫ 5th Street Productions \n� www.facebook.com/FifthStreetProductions \n♫ Sound & lighting provided by: \n✫ 5 Star Entertainment \n� www.facebook.com/5-Star-Entertainment-DJ-Services-Live-Sound-Reinforcement-288054568965 \n✫ BSNF \n� www.facebook.com/bsnf.yo \n✫ 5th Street Productions \n� www.facebook.com/FifthStreetProductions \n¯¯¯¯¯¯¯¯¯¯¯¯¯¯¯¯¯¯¯¯¯¯¯¯¯¯¯¯¯¯¯¯¯¯¯¯¯\n★Local Vending by: \n✫ Mama Saray \n✫ Stephen Peters \n� www.etsy.com/people/gembassador \n✫ Alex Bragale \n*If you would like to become a vendor at this event\, please e-mail djglobb@gmail.com* \n¯¯¯¯¯¯¯¯¯¯¯¯¯¯¯¯¯¯¯¯¯¯¯¯¯¯¯¯¯¯¯¯¯¯¯¯¯\n★Photography by: \n✫ InMotion Event Photography \n� www.facebook.com/InMotion-Event-Photography-139159729464650/ \n✫ Moonchild Photography \n� www.facebook.com/TheMoonchildPhotography/ \n✫ Mani Sing \n¯¯¯¯¯¯¯¯¯¯¯¯¯¯¯¯¯¯¯¯¯¯¯¯¯¯¯¯¯¯¯¯¯¯¯¯¯\n★Other Info: \n✫3 rooms of music! \n✫18+ to attend\, 21+ to drink \n✫$20 presales via http://globbpresentshoogs.brownpapertickets.com/ \n✫$25 at the door \n✫Located at: Bambou\n223 N. Franklintown Road\nBaltimore\, MD 21223 \n� https://www.facebook.com/THEBAMBOU \n✫Doors: 8PM – 2AM <————————-—————– \n✫Free parking all around! \n✫All patrons will be searched upon entry \n✫No re-entry \n✫1 hour drive from Washington\, D.C. \n✫2 hour drive from Philadelphia\, PA \n✫2.5 hour drive from Richmond\, VA \n✫3 hour drive from New York\, NY \n✫6 hour drive from Rochester\, NY \n✫A big thank you from Globb to everyone helping make this\nnight possible! ✫
URL:https://www.kinetiksmc.com/event/hoogs_bambou/
LOCATION:Bambou\, 223 N. Franklintown Road\, Baltimore\, MD\, 21223\, United States
CATEGORIES:Bambou,Club,Hosting,Location,Maryland,Venue
ATTACH;FMTTYPE=image/jpeg:https://www.kinetiksmc.com/site/wp-content/uploads/2016/05/12998268_773867639381416_3770344176887592240_o.jpg
END:VEVENT
END:VCALENDAR