BEGIN:VCALENDAR
VERSION:2.0
PRODID:-//Kinetiks MC - ECPv6.15.1.1//NONSGML v1.0//EN
CALSCALE:GREGORIAN
METHOD:PUBLISH
X-ORIGINAL-URL:https://www.kinetiksmc.com
X-WR-CALDESC:Events for Kinetiks MC
REFRESH-INTERVAL;VALUE=DURATION:PT1H
X-Robots-Tag:noindex
X-PUBLISHED-TTL:PT1H
BEGIN:VTIMEZONE
TZID:America/New_York
BEGIN:DAYLIGHT
TZOFFSETFROM:-0500
TZOFFSETTO:-0400
TZNAME:EDT
DTSTART:20170312T070000
END:DAYLIGHT
BEGIN:STANDARD
TZOFFSETFROM:-0400
TZOFFSETTO:-0500
TZNAME:EST
DTSTART:20171105T060000
END:STANDARD
END:VTIMEZONE
BEGIN:VEVENT
DTSTART;TZID=America/New_York:20170726T120000
DTEND;TZID=America/New_York:20170730T150000
DTSTAMP:20260423T182427
CREATED:20170614T022120Z
LAST-MODIFIED:20170614T022120Z
UID:891-1501070400-1501426800@www.kinetiksmc.com
SUMMARY:Big Dub Festival 2017 - [07.26/17 - 07/30/17]
DESCRIPTION:Fb: https://www.facebook.com/events/1021270748017247/ \nOh word? Yes\, I’ll be rocking the mics and tings at Big Dub Festival 2017! Big tings a gwannn –> TBA!! \nJuly 26th – 30th\nBIG DUB FESTIVAL\nwww.BigDubFestival.com \nhosted at Four Quarters Interfaith\nMain Camp & Hilltop entrance:190 Walker Ln\, Artemas PA\nNew Camp Entrance: 641 Clear Ridge Road\, Artemas PA \nThe 8th annual Big Dub Festival! \nThis year will continue to be integral in an ongoing legacy as multi-year veterans join and embrace newcomers into a culture of eco-responsibility\, of giving & sharing\, and respect for oneself & others. We are blossoming into something special that cannot be explained – but felt in the magical energy that fills the air. \nGENERAL OVERVIEW\n– dozens of patron-created theme camps\n– group movie nights\n– Rocky Horror Picture Show\n– hundreds of events at theme camps\n– four stages of music (Stone Circle\, Pavilion\, Hemlock Hole\, Clubhouse)\n– professional fireworks display\n– illuminated hammock haven\n– silent disco afterhours\n– nightly drum circle & invitation for all acoustic instruments\n– poi\, fire & flow arts at the drum circle\n– free\, clean running water\, showers\, and flushing toilets\n– cellphone charging stations\n– daily swimming hole party w/ inflatables (Wed\, Thurs\, Fri\, Sat)\n– main stages operating Thurs\, Friday\, Saturday\n– special Wednesday music programming at Hemlock Hole\n– daily in-camp yoga & meditation\n– daily workshop & seminar schedule featuring topics on dance\, poi\, fire arts\, crafting\, sex\, spirituality\, politics\, and more\n– Car camping available at New Camp (must purchase online)\n– RV parking available (must purchase online) \nSHUTTLE TO/FROM HILLTOP\nA complimentary shuttle will run from 9am each morning until 3am each night with service between Hilltop and Main Camp. \nHILLTOP CAMP ACTIVITIES\n– 31ft slip & slide\n– 50x50ft misting tent with lounge & wine bar\n– moon bounce\, cornhole & field day games\n– movie night\n– karaoke & open mic night\n– Big Dub University Annual Kegger with BYOB Power Hour and games (winners win a Big Dub Varsity jacket!) \nGATE ARRIVAL SCHEDULE:\nGates open for daily arrival at 10am each morning. Gates close at 11PM each night. Anyone arriving after 11pm will have to sleep in their car at the gate until the gates open again at 10am the next morning. \nORIENTATION:\nMandatory Big Dub Orientation will take place at 8:30pm on Wednesday\, July 26th at the Seminar Stage. Chad & Nicole will touch on updates to Big Dub as well as discuss plans for the future. \nVENDING:\nInterested vendors may apply at http://bigdubfestival.com/camping/merchanting-and-food-vending/ \nART GRANTS:\nWe are seeking large scale art installations & scultpures. More info athttp://bigdubfestival.com/submit-an-art-grant/ \nTHEME CAMP APPLICATIONS:\nTheme camps and villages are the interactive core of Big Dub. An ideal theme camp creates a visually stimulating presence and provide a communal space or other opportunity for interaction. Those who contribute to the creation of this communal space often camp around this site and contribute to maintaining the site during the festival as well as working to provide activities to other festival attendees. Apply athttp://bigdubfestival.com/submit-theme-camp/ \nMUSIC:\nMusic will run every day of the festival. Two official opening parties will take place on Wednesday the 26th with the Clubhouse Stage in Hilltop and The Pirate Ship at Hemlock hole. The Stone Circle and Pavilion both open on Thursday the 27th. The Stone Circle is our largest stage with the most sound which runs until 11pm on Thursday and midnight on Friday/Saturday. The Pavilion & Pirate Ship are both afterhours stages. \nEXODUS:\nSunday\, July 30th is the festival clean-up and exodus day. No festivities take place on this day outside of hugging your new friends goodbye! \nVOLUNTEERING:\nWe are seeking motivated people who want to give back to the community and be a part of something special. We are not seeking people who simply want free entry into a festival. We are seeking those who have job skills and a service mentality. If you have never worked for a Badass-owned festival before then your first festival is voluntary and you will be assigned to shadow a senior member. If you are as amazing as we expect then you will be invited back in the future with a paid job which includes other benefits. Keep an eye out for the volunteer tab on our website which will launch sometime in February! \n***** CORE PRINCIPLES OF BIG DUB ***** \nRADICAL SELF EXPRESSION: We are all unique\, passionate people. Feel free to be yourself. Wear what you want. Dance how you want. Talk to who you want. \nRADICAL SELF RELIANCE: Discover\, arrange and rely on your own resources. Preparedness is both important & sexy! “Don’t Be A D*ck” by assuming that others will take care of you. \nPARTICIPATION: While anyone can be a spectator\, Big Dub Festival is all about stepping out of your comfort zone and experiencing life like you have never done before. \nGIFTING: This is the act of making someone’s day… by doing things for another without expectation of compensation or return. \nACCEPTANCE & INCLUSION: Accepting the differences & choices of others and not pass judgment. We are a family built upon includin one another and supporting each other every step of the way. \nRESPECT & MINDFULNESS: All members of society expect to be treated fairly regardless of what they do or how they choose to dress (or not dress at all in some cases). Basically “Don’t Be A D*ck!” \nCONSENT: Be mindful about your interactions and pay attention to ensure you are not invading someone’s comfort zone. This includes anything from what you say & what you share to the act of touch.
URL:https://www.kinetiksmc.com/event/bigdub2017/
LOCATION:Four Quarters Farm\, 190 Walker Ln\, Artemas\, PA\, 17211\, United States
CATEGORIES:Badass Raves,Festival,Four Quarters Farm,Maryland
ATTACH;FMTTYPE=image/jpeg:https://www.kinetiksmc.com/site/wp-content/uploads/2017/06/16300223_1419363884763909_5409909566818449537_o.jpg
END:VEVENT
END:VCALENDAR