BEGIN:VCALENDAR
VERSION:2.0
PRODID:-//Kinetiks MC - ECPv6.15.1.1//NONSGML v1.0//EN
CALSCALE:GREGORIAN
METHOD:PUBLISH
X-WR-CALNAME:Kinetiks MC
X-ORIGINAL-URL:https://www.kinetiksmc.com
X-WR-CALDESC:Events for Kinetiks MC
REFRESH-INTERVAL;VALUE=DURATION:PT1H
X-Robots-Tag:noindex
X-PUBLISHED-TTL:PT1H
BEGIN:VTIMEZONE
TZID:America/New_York
BEGIN:DAYLIGHT
TZOFFSETFROM:-0500
TZOFFSETTO:-0400
TZNAME:EDT
DTSTART:20160313T070000
END:DAYLIGHT
BEGIN:STANDARD
TZOFFSETFROM:-0400
TZOFFSETTO:-0500
TZNAME:EST
DTSTART:20161106T060000
END:STANDARD
END:VTIMEZONE
BEGIN:VEVENT
DTSTART;TZID=America/New_York:20160826T220000
DTEND;TZID=America/New_York:20160827T040000
DTSTAMP:20260423T182227
CREATED:20160816T050117Z
LAST-MODIFIED:20160816T050117Z
UID:649-1472248800-1472270400@www.kinetiksmc.com
SUMMARY:Apocalypse - Last Friday at the Paradox! Feat. Pendulum\, DJ SS b2b Bladerunner\, AK1200 + more! (8/26/16)
DESCRIPTION:FB Event –> Apocalypse! (Last Friday at the Paradox) \nWe brought you the ”Resurrection” when the Paradox opened back up for a short brief of time but all good things come to an end. So prepare yourselves for the very last Friday\, so we can rock this place one more time! \nThe APOCALYPSE is coming with…. \n◄◄◄◄◄ Pendulum (Dj set) ►►►► \nBio: https://en.wikipedia.org/wiki/Pendulum \n◄◄◄ djss & Bladerunner dnb ►►►\n(Oldschool Jungle set) \n◄◄◄ Frankie Bones ►►►\n(Oldschool Techno Remix set) \n◄◄◄ AK1200 ►►►\n(3D’s newest official resident) \n◄◄◄ Reid Speed ►►►\n(DnB set) \n◄◄◄ Secret Panda Society ►►►\n(Play Me Records\, Armada\, Black Hole Recordings) \nMain room: DnB\n< Dj Don Vega b2b Deinfamous >\n< Patrick Currier >\n< Droosie >\n< Shock (Difinitive Junglist) > \nThe Chamber: Jungle / Ragga\n< Spinscott (Live) >\n< Kyng Of Thievez >\n< Blaze One >\n< Strato G > \nOutside: Techno\, Funky House\, Breaks & 2-Step\n< Crimson Raiders >\n< DJ Octane >\n< SHAFT XXL >\n< Rutch Dudder >\n< Statik Skye > \nHosted by: Eyecue\, MC Twisty\, & Kinetiks MC  \nSupport by: Badvss RAVES\, Re:magine\, 5th Street Productions \nSound by: John Moyer \n($20 TICKETS ARE LIVE NOW @ TICKETFLY.COM) \nParadox Entertainment\n1310 Russell street Baltimore MD\n18+ \n(FULL LOADED BAR // CASH ONLY // NO ATM)
URL:https://www.kinetiksmc.com/event/apocalypse/
LOCATION:The Paradox\, 1310 Russell St. \, Baltimore\, MD\, 21230\, United States
CATEGORIES:3D Productions,Club,Hosting,Maryland,The Paradox,Venue
ATTACH;FMTTYPE=image/jpeg:https://www.kinetiksmc.com/site/wp-content/uploads/2016/08/Apocalypse-Friday-August-26.jpg
ORGANIZER;CN="3D Productions":MAILTO:dom@3dpartyevents.com
END:VEVENT
BEGIN:VEVENT
DTSTART;TZID=America/New_York:20160624T220000
DTEND;TZID=America/New_York:20160625T030000
DTSTAMP:20260423T182227
CREATED:20160531T033445Z
LAST-MODIFIED:20160531T033445Z
UID:625-1466805600-1466823600@www.kinetiksmc.com
SUMMARY:Resurrection @ The Paradox! Feat. Bad Company UK\, Audio\, Joe Nice + more - 6/24/16!
DESCRIPTION:After 15-years the highly demanded super DnB band just got back together. Now we are hosting an Exclusive East Coast date! The Paradox closed down but opened back up til August. \nLadies and gentleman\, this is the ”RESURRECTION” \nFeaturing: \n◄Bad Company UK►\n(Est. 1998\, Dj Fresh\, DBridge\, Maldini & Vegas)\n◄Audio►\n(DnB\, RAM\, UK)\n◄DJ Assault►\n(Booty Bass\, ATL)\n◄Joe Nice►\n(Real Dubstep\, Bmore)\n◄LUZCID►\n(Space Music\, TX)\n◄MACHETE►\n(DnB\, Respect\, LA) \nW/ support by: \n◄The Burner Brothers►\nDnB\, Patrol the Skies Muisc\, NY \n◄Encryption►\nDnB\, Deep Sessions DC \n◄Muramasa►\nOtakon\, Badass\, DC \n◄Tre Justice x Ruckle►\nBassment\, VA \n◄A Thousand Drunk DJs►\nDMV \n◄Elemental►\nHip Hop\, Badass\, Bmore \n◄Mr Pick4d►\nMoonbahton\, DC \nMore Details coming soon! \nPromo support by: The Bassment \n(TICKETS ARE LIVE NOW @ TICKETFLY.COM) \nParadox Entertainment\n1310 Russell street Baltimore MD\n18+
URL:https://www.kinetiksmc.com/event/resurrection/
LOCATION:The Paradox\, 1310 Russell St. \, Baltimore\, MD\, 21230\, United States
CATEGORIES:3D Productions,Club,DC,Hosting,Maryland,The Paradox,Venue
ATTACH;FMTTYPE=image/jpeg:https://www.kinetiksmc.com/site/wp-content/uploads/2016/05/13243843_10153674075987852_599157148164623254_o.jpg
ORGANIZER;CN="3D Productions":MAILTO:dom@3dpartyevents.com
END:VEVENT
END:VCALENDAR