BEGIN:VCALENDAR
VERSION:2.0
PRODID:-//Kinetiks MC - ECPv6.15.1.1//NONSGML v1.0//EN
CALSCALE:GREGORIAN
METHOD:PUBLISH
X-ORIGINAL-URL:https://www.kinetiksmc.com
X-WR-CALDESC:Events for Kinetiks MC
REFRESH-INTERVAL;VALUE=DURATION:PT1H
X-Robots-Tag:noindex
X-PUBLISHED-TTL:PT1H
BEGIN:VTIMEZONE
TZID:America/New_York
BEGIN:DAYLIGHT
TZOFFSETFROM:-0500
TZOFFSETTO:-0400
TZNAME:EDT
DTSTART:20150308T070000
END:DAYLIGHT
BEGIN:STANDARD
TZOFFSETFROM:-0400
TZOFFSETTO:-0500
TZNAME:EST
DTSTART:20151101T060000
END:STANDARD
BEGIN:DAYLIGHT
TZOFFSETFROM:-0500
TZOFFSETTO:-0400
TZNAME:EDT
DTSTART:20160313T070000
END:DAYLIGHT
BEGIN:STANDARD
TZOFFSETFROM:-0400
TZOFFSETTO:-0500
TZNAME:EST
DTSTART:20161106T060000
END:STANDARD
BEGIN:DAYLIGHT
TZOFFSETFROM:-0500
TZOFFSETTO:-0400
TZNAME:EDT
DTSTART:20170312T070000
END:DAYLIGHT
BEGIN:STANDARD
TZOFFSETFROM:-0400
TZOFFSETTO:-0500
TZNAME:EST
DTSTART:20171105T060000
END:STANDARD
END:VTIMEZONE
BEGIN:VEVENT
DTSTART;TZID=America/New_York:20170804T210000
DTEND;TZID=America/New_York:20170805T030000
DTSTAMP:20260423T180311
CREATED:20170614T030226Z
LAST-MODIFIED:20170703T180434Z
UID:905-1501880400-1501902000@www.kinetiksmc.com
SUMMARY:SubDistrick & Amalgamation presents: Fixate @ Ten Tigers! [Fri 08.04.17]
DESCRIPTION:Fb: https://www.facebook.com/events/103112760273768/ \nTix: TBA soon \nSubdistrick and Amalgamation join forces for a summer sizzler stacked with seasoned locals and North London’s rude boy – FIXATE! Making his *DC/US DEBUT* expect an eclectic mix of Drum n Bass\, Juke/Footwork\, Hip-Hop\, and all around good vibez. \n* FIXATE * ( London – EXIT Records\, Diffrent Music )\nhttps://soundcloud.com/fixate_uk \nAsk anyone who knows anything about half-time drum & bass and they’ll tell you North London’s FIXATE is on fire right now. A quick look at his catalogue will tell you the same. Highlights include recent work with dBridge on the once secret mass collab project\, Richie Brains. \nFIXATE’s love for hip-hop\, grime and dubstep led him to his unique perspective on D&B/Bass music today. Expect mad future-thinking with a brilliant balance of precision and experimental wonkiness. Get ready for some future dance hall space bass bizzle! \nRude Operator [Mad Max & Julez]\n(Washington DC)\nhttps://www.facebook.com/rudeoperator/\nhttps://soundcloud.com/rude-operator \nNature Rage [Translation Recordings\, Noisy Meditation]\n(Washington DC)\nhttps://soundcloud.com/naturerage \nRefugee [Amalgamation]\n(Washington DC)\nhttps://www.facebook.com/Refugee86/\nhttps://www.mixcloud.com/Refugee/ \nHosted by:\nKinetiks MC [3D Productions\, Subdistrick\, Temporal Fusion]\n(Washington DC)\nhttps://www.facebook.com/kinetiksMC/\nhttp://www.kinetiksmc.com/ \nSubDistrick\nAmalgamation \n21+ w/ ID \nTicket info coming soon
URL:https://www.kinetiksmc.com/event/subdistrick_amalgamation/
LOCATION:Ten Tigers Parlour\, 3813 Georgia Avenue NW\, Washington\, DC\, 20011\, United States
CATEGORIES:Amalgamation,Club,DC,DCDNB,SubDistrick,SubDistrick,Zeba Bar
ATTACH;FMTTYPE=image/jpeg:https://www.kinetiksmc.com/site/wp-content/uploads/2017/07/19250547_1345889945526868_82620063253127367_o.jpg
END:VEVENT
BEGIN:VEVENT
DTSTART;TZID=America/New_York:20170722T220000
DTEND;TZID=America/New_York:20170723T030000
DTSTAMP:20260423T180311
CREATED:20170703T181142Z
LAST-MODIFIED:20170720T021609Z
UID:1168-1500760800-1500778800@www.kinetiksmc.com
SUMMARY:DJ Rap Presented by 3D and Fun & Bass! [Sat. 07.22.17]
DESCRIPTION:Event page –> DJ Rap Presented by 3D and Fun & Bass! \nTix –> Available on TicketFly here \n3D Productions and Fun & Bass are proud to present DJ Rap at Zeba Bar! \nDJ Rap\nCharissa Saverio\, a.k.a. DJ RAP\, has been the undisputed queen of the turntables and voted the number one female DJ in the world for the last 10 years! DJ Rap has infiltrated the music industry with her arsenal of talent. She has established herself as the CEO of her labels: Propa and Impropa Talent\, developed her creative direction as a full-fledged producer\, and remains to be the recording artist and DJ that everyone has come to love and love dance to! She is also a classically trained pianist and song writer\, amongst many other talents! Rap has dominated such genres as house and drum & bass. However\, her love for music has taken her through many reflections of genres and musical experiences. Ultimately\, millions in a global capacity have embraced her and her music. \nhttps://www.facebook.com/djrap\nhttps://djrap.com/\nhttps://soundcloud.com/djrap \nW.P.L\nWPL’s (aka Giulio Ascoli) musical roots lie in instrumental music mostly Metal\, nu-metal\, CrossOver and Punk as a drummer for over 10 years before moving permanently to electronic music in 2000 and after two years of experimentation between Electronic and HipHop lands in 2002 to DnB both as a producer then as a DJ. Since 2007 has released his music for worldwide labels like: Trust In Music\, Big Riddim Recordings\, Mindocracy\, Othercide Records\, SubCulture and Modulate recordings together with well known international artists. In 2011\, USA DnB Pioneer and hero Dave Minner aka AK1200 expanded Big Riddim Recordings and welcomed partner Giulio as co-owner and Label partner. Together they remodeled the company\, and have created a very aggressive campaign for the global sustainance of Hard Drum and Bass music with releases signed by the best dnb artist worldwide like: Black Sun Empire\, Cooh\, Zardonic\, Memtrix\, Neonlight\, Receptor\, CounterStrike\, Robyn Chaos\, State of Mind\, Fragz\, Freqax\, Corrupted. \nhttps://www.facebook.com/therealwpl\nhttps://www.facebook.com/BigRiddimRecodings\nhttps://soundcloud.com/bigriddimrecordings \nDATA DRoP vs Childsplay\nDTL Contraversy vs Frankie Bass\nDJ Dread DROP\nKinetiks MC \n-Upgraded sound and lighting\n-Covered smoking patio\n-Hookahs \nZeba Bar 3423 14th St NW\, Washington\, DC 20010\nThis is a +21 Event
URL:https://www.kinetiksmc.com/event/djrap/
LOCATION:Zeba Bar\, 3423 14 St. NW\, Washington\, DC\, 20010\, United States
CATEGORIES:3D Productions,Club,DC,DCDNB,Fun & Bass,Hosting,Zeba Bar
ATTACH;FMTTYPE=image/jpeg:https://www.kinetiksmc.com/site/wp-content/uploads/2017/07/19895056_711579349044244_121364636286958724_n.jpg
ORGANIZER;CN="3D Productions":MAILTO:dom@3dpartyevents.com
END:VEVENT
BEGIN:VEVENT
DTSTART;TZID=America/New_York:20151113T220000
DTEND;TZID=America/New_York:20151114T030000
DTSTAMP:20260423T180311
CREATED:20151012T130925Z
LAST-MODIFIED:20151012T130925Z
UID:936-1447452000-1447470000@www.kinetiksmc.com
SUMMARY:DJ Dara at Zeba Bar! (11/13)
DESCRIPTION:“No Time For Rewinds” – DJ Dara at Zeba Bar! (11/13) \nDARA\n(Planet of the Drums\, Breakbeat Science) \nSubversions\n(Deinfamous\, DJ a.M.p.\, MC Twisty) \nCoastill\n(SubDistrick\, Atomic Zoo Recordings) \nCadence Residents\n(Drone\, Seany Ranks\, Vanniety Kills) \nKinetiks MC will be on set to navigate the ride!\n(www.kinetiksmc.com\, Soulstealer Sessions\, SubDistrick) \nHeavyweight sound and proper vibes provided by:\nThe Blud Step Crew (Keely\, Biff\, Jeff\, Mary Anne) \nTickets available here…\nhttp://bit.ly/1JTETT8 \nZeba Bar\n3423 14th St NW\nWashington\, DC\n======================== \nBig Up Stickups\nhttps://www.facebook.com/bigupstickups\nCadence\nhttps://www.facebook.com/cadencedc\nZeba Bar\nhttps://www.facebook.com/Zeba-Bar-136491049756285/timeline/ \n========================\nDJ DARA\nA member of the infamous Planet of the Drums crew alongside fellow drum ‘n bass pioneers AK1200\, Dieselboy\, & J Messinian\, this Irish transplant has been a dominant figure in the U.S. drum ‘n bass scene since his arrival here in 1994. His discography includes 2 critically acclaimed full length artist albums\, 8 DJ mix CDs\, as well as numerous singles and remixes for artists such as Freq Nasty\, Afrika Bambaata and Keoki. Dara co-founded the nation’s first & largest drum ‘n bass record store\, Breakbeat Science\, in NYC which doubles as his own imprint\, Breakbeat Science Recordings. He has been featured in countless magazine articles and interviews both in the US and worldwide. He previously hosted one of the internet’s most popular drum ‘n bass broadcasts\, Velocity\, where he regularly interviewed leading drum ‘n bass artists such as Jonny L\, Kemistry & Storm\, Trace\, Ed Rush\, Optical\, Hype\, Andy C\, Zinc\, and many others. Dara’s long standing relationsh+++ips with the world’s drum ‘n bass elite gives him access to an astounding amount of new and unreleased material. His brilliant recording endeavors along with his incessant touring markey by consistently awe-inspiring DJ sets have made him one of the most recognized and well respected DJs in the country.
URL:https://www.kinetiksmc.com/event/notimeforrewinds-2/
LOCATION:Zeba Bar\, 3423 14 St. NW\, Washington\, DC\, 20010\, United States
CATEGORIES:Cadence,Club,DC,DCDNB,Hosting,Zeba Bar
ATTACH;FMTTYPE=image/jpeg:https://www.kinetiksmc.com/site/wp-content/uploads/2015/10/12063392_905360849511605_6250396796698354331_n.jpg
END:VEVENT
END:VCALENDAR